Workbook

Sheet STUNTING KEC
A1: DATA BALITA STUNTING HASIL e-PPGBM
A2: KABUPATEN LEMBATA
A3: PROVINSI NUSA TENGGARA TIMUR
A4: =STUNTING!A4 -> PERIODE SEPTEMBER 2025
A6: NO | B6: KECAMATAN | C6: PUSKESMAS | D6: DESA/KELURAHAN | F6: SASARAN | G6: TOTAL BALITA DIUKUR | H6: STATUS GIZI (TB/U) | M6: TOTAL BALITA STUNTING | N6: % BALITA STUNTING
H7: Sangat Pendek | I7: Pendek | J7: Normal | K7: Tinggi | L7: Outlier
A8: 1 | B8: 2 | C8: 3 | D8: 4 | F8: 5 | G8: 6 | H8: 7 | I8: 8 | J8: 9 | K8: 10 | L8: 11 | M8: 12=(7+8) | N8: 13=(12/6)
C9: JUMLAH PUSKESMAS WAIRIANG | F9: =STUNTING!F19 -> 710 | G9: =STUNTING!G19 -> 691 | H9: =STUNTING!H19 -> 3 | I9: =STUNTING!I19 -> 17 | J9: =STUNTING!J19 -> 671 | K9: =STUNTING!K19 -> 0 | L9: =STUNTING!L19 -> 0 | M9: =H9+I9 -> 20 | N9: =M9/G9*100 -> 2.894356
C10: JUMLAH PUSKESMAS BEAN | F10: =STUNTING!F30 -> 564 | G10: =STUNTING!G30 -> 564 | H10: =STUNTING!H30 -> 6 | I10: =STUNTING!I30 -> 22 | J10: =STUNTING!J30 -> 536 | K10: =STUNTING!K30 -> 0 | L10: =STUNTING!L30 -> 0 | M10: =H10+I10 -> 28 | N10: =M10/G10*100 -> 4.964539
A11: TOTAL KECAMATAN BUYASURI | F11: =F9+F10 -> 1274 | G11: =G9+G10 -> 1255 | H11: =H9+H10 -> 9 | I11: =I9+I10 -> 39 | J11: =J9+J10 -> 1207 | K11: =K9+K10 -> 0 | L11: =L9+L10 -> 0 | M11: =M9+M10 -> 48 | N11: =M11/G11*100 -> 3.8247012
C12: JUMLAH PUSKESMAS BALAURING | E12: BALAURING | F12: =STUNTING!F44 -> 759 | G12: =STUNTING!G44 -> 680 | H12: =STUNTING!H44 -> 21 | I12: =STUNTING!I44 -> 86 | J12: =STUNTING!J44 -> 568 | K12: =STUNTING!K44 -> 0 | L12: =STUNTING!L44 -> 5 | M12: =H12+I12 -> 107 | N12: =M12/G12*100 -> 15.735294
C13: JUMLAH PUSKESMAS AUTONAPOQ | F13: =STUNTING!F55 -> 531 | G13: =STUNTING!G55 -> 531 | H13: =STUNTING!H55 -> 8 | I13: =STUNTING!I55 -> 20 | J13: =STUNTING!J55 -> 503 | K13: =STUNTING!K55 -> 0 | L13: =STUNTING!L55 -> 0 | M13: =H13+I13 -> 28 | N13: =M13/G13*100 -> 5.2730697
A14: TOTAL KECAMATAN OMESURI | F14: =F12+F13 -> 1290 | G14: =G12+G13 -> 1211 | H14: =H12+H13 -> 29 | I14: =I12+I13 -> 106 | J14: =J12+J13 -> 1071 | K14: =K12+K13 -> 0 | L14: =L12+L13 -> 5 | M14: =M12+M13 -> 135 | N14: =M14/G14*100 -> 11.147812 | Q14: =H14+I14 -> 135
C15: JUMLAH PUSKEMAS LEWOLEBA | F15: =STUNTING!F64 -> 1826 | G15: =STUNTING!G64 -> 1696 | H15: =STUNTING!H64 -> 37 | I15: =STUNTING!I64 -> 271 | J15: =STUNTING!J64 -> 1384 | K15: =STUNTING!K64 -> 0 | L15: =STUNTING!L64 -> 4 | M15: =STUNTING!M64 -> 308 | N15: =M15/G15*100 -> 18.160377
C16: JUMLAH PUSKESMAS PADA | F16: =STUNTING!F76 -> 469 | G16: =STUNTING!G76 -> 405 | H16: =STUNTING!H76 -> 9 | I16: =STUNTING!I76 -> 39 | J16: =STUNTING!J76 -> 356 | K16: =STUNTING!K76 -> 0 | L16: =STUNTING!L76 -> 1 | M16: =STUNTING!M76 -> 48 | N16: =M16/G16*100 -> 11.851852
A17: TOTAL KECAMATAN NUBATUKAN | F17: =F15+F16 -> 2295 | G17: =G15+G16 -> 2101 | H17: =H15+H16 -> 46 | I17: =I15+I16 -> 310 | J17: =J15+J16 -> 1740 | K17: =K15+K16 -> 0 | L17: =L15+L16 -> 5 | M17: =M15+M16 -> 356 | N17: =M17/G17*100 -> 16.944312
A18: TOTAL KECAMATAN LEBATUKAN/PUSK HADAKEWA | F18: =STUNTING!F95 -> 597 | G18: =STUNTING!G95 -> 597 | H18: =STUNTING!H95 -> 4 | I18: =STUNTING!I95 -> 38 | J18: =STUNTING!J95 -> 555 | K18: =STUNTING!K95 -> 0 | L18: =STUNTING!L95 -> 0 | M18: =STUNTING!M95 -> 42 | N18: =M18/G18*100 -> 7.0351759
A19: TOTAL KECAMATAN ILE APE TIMUR/PUSK. LAMAAU | F19: =STUNTING!F105 -> 290 | G19: =STUNTING!G105 -> 290 | H19: =STUNTING!H105 -> 5 | I19: =STUNTING!I105 -> 16 | J19: =STUNTING!J105 -> 262 | K19: =STUNTING!K105 -> 0 | L19: =STUNTING!L105 -> 7 | M19: =STUNTING!M105 -> 21 | N19: =M19/G19*100 -> 7.2413793
A20: TOTAL KECAMATAN ATADEI/PUSK WAIKNUIT | F20: =STUNTING!F121 -> 420 | G20: =STUNTING!G121 -> 419 | H20: =STUNTING!H121 -> 4 | I20: =STUNTING!I121 -> 21 | J20: =STUNTING!J121 -> 392 | K20: =STUNTING!K121 -> 0 | L20: =STUNTING!L121 -> 2 | M20: =STUNTING!M121 -> 25 | N20: =M20/G20*100 -> 5.9665871
A21: TOTAL KECAMATAN WULANDON/PUSK WULANDONI | F21: =STUNTING!F137 -> 469 | G21: =STUNTING!G137 -> 450 | H21: =STUNTING!H137 -> 13 | I21: =STUNTING!I137 -> 85 | J21: =STUNTING!J137 -> 350 | K21: =STUNTING!K137 -> 0 | L21: =STUNTING!L137 -> 2 | M21: =STUNTING!M137 -> 98 | N21: =M21/G21*100 -> 21.777778
A22: TOTAL KECAMATAN NAGAWUTUN/PUSK. LOANG | F22: =STUNTING!F156 -> 611 | G22: =STUNTING!G156 -> 606 | H22: =STUNTING!H156 -> 2 | I22: =STUNTING!I156 -> 17 | J22: =STUNTING!J156 -> 585 | K22: =STUNTING!K156 -> 1 | L22: =STUNTING!L156 -> 1 | M22: =STUNTING!M156 -> 19 | N22: =M22/G22*100 -> 3.1353135
A23: TOTAL KECAMATAN ILE APE/PUSK. WAIPUKANG | F23: =STUNTING!F174 -> 662 | G23: =STUNTING!G174 -> 617 | H23: =STUNTING!H174 -> 9 | I23: =STUNTING!I174 -> 70 | J23: =STUNTING!J174 -> 536 | K23: =STUNTING!K174 -> 0 | L23: =STUNTING!L174 -> 2 | M23: =STUNTING!M174 -> 79 | N23: =M23/G23*100 -> 12.80389
A24: TOTAL KABUPATEN | F24: =F23+F22+F21+F20+F19+F18+F16+F15+F13+F12+F10+F9 -> 7908 | G24: =G23+G22+G21+G20+G19+G18+G16+G15+G13+G12+G10+G9 -> 7546 | H24: =H23+H22+H21+H20+H19+H18+H16+H15+H13+H12+H10+H9 -> 121 | I24: =I23+I22+I21+I20+I19+I18+I16+I15+I13+I12+I10+I9 -> 702 | J24: =J23+J22+J21+J20+J19+J18+J16+J15+J13+J12+J10+J9 -> 6698 | K24: =K23+K22+K21+K20+K19+K18+K16+K15+K13+K12+K10+K9 -> 1 | L24: =L11+L14+L17+L18+L19+L20+L21+L22+L23 -> 24 | M24: =M23+M22+M21+M20+M19+M18+M16+M15+M13+M12+M10+M9 -> 823 | N24: =M24/G24*100 -> 10.90644
G26: =STUNTING!G177 -> Lewoleba,30 September 2025
G27: Dinas Kesehatan
G28: Kabupten Lembata
G32: =STUNTING!G183 -> dr.Goerillya A. Huar Noning
G33: =STUNTING!G184 -> Pembina Tk .I
G34: =STUNTING!G185 -> NIP.19741114 200604 1 008

Sheet STUNTING
A1: DATA BALITA STUNTING HASIL e-PPGBM
A2: KABUPATEN LEMBATA
A3: PROVINSI NUSA TENGGARA TIMUR
A4: PERIODE SEPTEMBER 2025
A6: NO | B6: KECAMATAN | C6: PUSKESMAS | D6: DESA/KELURAHAN | F6: SASARAN | G6: TOTAL BALITA DIUKUR | H6: STATUS GIZI (TB/U) | M6: TOTAL BALITA STUNTING | N6: % BALITA STUNTING
H7: Sangat Pendek | I7: Pendek | J7: Normal | K7: Tinggi | L7: Outlier
A8: 1 | B8: 2 | C8: 3 | D8: 4 | F8: 5 | G8: 6 | H8: 7 | I8: 8 | J8: 9 | K8: 10 | L8: 11 | M8: 12=(7+8) | N8: 12=(12/6)
A9: 1 | B9: BUYASURI | C9: WAIRIANG | D9: 1 | E9: TOBOTANI | F9: 66 | G9: =H9+I9+J9+K9+L9 -> 66 | H9: 0 | I9: 0 | J9: 66 | K9: 0 | L9: 0 | M9: =H9+I9 -> 0 | N9: =M9/G9*100 -> 0
D10: 2 | E10: KALIKUR WL | F10: 65 | G10: =H10+I10+J10+K10+L10 -> 64 | H10: 0 | I10: 1 | J10: 63 | K10: 0 | L10: 0 | M10: =H10+I10 -> 1 | N10: =M10/G10*100 -> 1.5625
D11: 3 | E11: KAOHUA | F11: 93 | G11: =H11+I11+J11+K11+L11 -> 92 | H11: 1 | I11: 3 | J11: 88 | K11: 0 | L11: 0 | M11: =H11+I11 -> 4 | N11: =M11/G11*100 -> 4.3478261
D12: 4 | E12: UMALEU | F12: 94 | G12: =H12+I12+J12+K12+L12 -> 94 | H12: 1 | I12: 4 | J12: 89 | K12: 0 | L12: 0 | M12: =H12+I12 -> 5 | N12: =M12/G12*100 -> 5.3191489
D13: 5 | E13: BURIWUTUNG | F13: 77 | G13: =H13+I13+J13+K13+L13 -> 71 | H13: 1 | I13: 0 | J13: 70 | K13: 0 | L13: 0 | M13: =H13+I13 -> 1 | N13: =M13/G13*100 -> 1.4084507
D14: 6 | E14: MAMPIR | F14: 79 | G14: =H14+I14+J14+K14+L14 -> 78 | H14: 0 | I14: 2 | J14: 76 | K14: 0 | L14: 0 | M14: =H14+I14 -> 2 | N14: =M14/G14*100 -> 2.5641026
D15: 7 | E15: LEUWOHUNG | F15: 65 | G15: =H15+I15+J15+K15+L15 -> 63 | H15: 0 | I15: 1 | J15: 62 | K15: 0 | L15: 0 | M15: =H15+I15 -> 1 | N15: =M15/G15*100 -> 1.5873016
D16: 8 | E16: BARENG | F16: 44 | G16: =H16+I16+J16+K16+L16 -> 44 | H16: 0 | I16: 2 | J16: 42 | K16: 0 | L16: 0 | M16: =H16+I16 -> 2 | N16: =M16/G16*100 -> 4.5454545
D17: 9 | E17: KALIKUR | F17: 79 | G17: =H17+I17+J17+K17+L17 -> 73 | H17: 0 | I17: 3 | J17: 70 | K17: 0 | L17: 0 | M17: =H17+I17 -> 3 | N17: =M17/G17*100 -> 4.109589
D18: 10 | E18: RUMANG | F18: 48 | G18: =H18+I18+J18+K18+L18 -> 46 | H18: 0 | I18: 1 | J18: 45 | K18: 0 | L18: 0 | M18: =H18+I18 -> 1 | N18: =M18/G18*100 -> 2.173913
C19: JUMLAH PUSKESMAS WAIRIANG | F19: =SUM(F9:F18) -> 710 | G19: =SUM(G9:G18) -> 691 | H19: =SUM(H9:H18) -> 3 | I19: =SUM(I9:I18) -> 17 | J19: =SUM(J9:J18) -> 671 | K19: =SUM(K9:K18) -> 0 | L19: =SUM(L9:L18) -> 0 | M19: =H19+I19 -> 20 | N19: =M19/G19*100 -> 2.894356
A20: 2 | C20: BEAN | D20: 1 | E20: PANAMA | F20: 92 | G20: =H20+I20+J20+K20+L20 -> 92 | H20: 2 | I20: 4 | J20: 86 | K20: 0 | L20: 0 | M20: =H20+I20 -> 6 | N20: =M20/G20*100 -> 6.5217391
D21: 2 | E21: BEAN | F21: 38 | G21: =H21+I21+J21+K21+L21 -> 38 | H21: 0 | I21: 2 | J21: 36 | K21: 0 | L21: 0 | M21: =H21+I21 -> 2 | N21: =M21/G21*100 -> 5.2631579
D22: 3 | E22: BENIHADING | F22: 28 | G22: =H22+I22+J22+K22+L22 -> 28 | H22: 0 | I22: 0 | J22: 28 | K22: 0 | L22: 0 | M22: =H22+I22 -> 0 | N22: =M22/G22*100 -> 0
D23: 4 | E23: BENIHADING II | F23: 95 | G23: =H23+I23+J23+K23+L23 -> 95 | H23: 1 | I23: 4 | J23: 90 | K23: 0 | L23: 0 | M23: =H23+I23 -> 5 | N23: =M23/G23*100 -> 5.2631579
D24: 5 | E24: ATULALENG | F24: 41 | G24: =H24+I24+J24+K24+L24 -> 41 | H24: 0 | I24: 2 | J24: 39 | K24: 0 | L24: 0 | M24: =H24+I24 -> 2 | N24: =M24/G24*100 -> 4.8780488
D25: 6 | E25: TUBUNG WALANG | F25: 24 | G25: =H25+I25+J25+K25+L25 -> 24 | H25: 0 | I25: 1 | J25: 23 | K25: 0 | L25: 0 | M25: =H25+I25 -> 1 | N25: =M25/G25*100 -> 4.1666667
D26: 7 | E26: ROHO | F26: 58 | G26: =H26+I26+J26+K26+L26 -> 58 | H26: 0 | I26: 2 | J26: 56 | K26: 0 | L26: 0 | M26: =H26+I26 -> 2 | N26: =M26/G26*100 -> 3.4482759
D27: 8 | E27: LOYOBOHOR | F27: 56 | G27: =H27+I27+J27+K27+L27 -> 56 | H27: 1 | I27: 4 | J27: 51 | K27: 0 | L27: 0 | M27: =H27+I27 -> 5 | N27: =M27/G27*100 -> 8.9285714
D28: 9 | E28: LEUBURI | F28: 89 | G28: =H28+I28+J28+K28+L28 -> 89 | H28: 1 | I28: 0 | J28: 88 | K28: 0 | L28: 0 | M28: =H28+I28 -> 1 | N28: =M28/G28*100 -> 1.1235955
D29: 10 | E29: ATU WALUPANG | F29: 43 | G29: =H29+I29+J29+K29+L29 -> 43 | H29: 1 | I29: 3 | J29: 39 | K29: 0 | L29: 0 | M29: =H29+I29 -> 4 | N29: =M29/G29*100 -> 9.3023256
C30: JUMLAH PUSKESMAS BEAN | F30: =F20+F21+F22+F23+F24+F25+F26+F27+F28+F29 -> 564 | G30: =SUM(G20:G29) -> 564 | H30: =SUM(H20:H29) -> 6 | I30: =SUM(I20:I29) -> 22 | J30: =SUM(J20:J29) -> 536 | K30: =SUM(K20:K29) -> 0 | L30: =SUM(L20:L29) -> 0 | M30: =H30+I30 -> 28 | N30: =M30/G30*100 -> 4.964539
A31: TOTAL KECAMATAN BUYASURI | F31: =F19+F30 -> 1274 | G31: =G19+G30 -> 1255 | H31: =H19+H30 -> 9 | I31: =I19+I30 -> 39 | J31: =J19+J30 -> 1207 | K31: =K19+K30 -> 0 | L31: =L19+L30 -> 0 | M31: =M19+M30 -> 48 | N31: =M31/G31*100 -> 3.8247012
A32: 3 | B32: OMESURI | C32: BALAURING | D32: 1 | E32: NORMAL | F32: 38 | G32: =H32+I32+J32+K32+L32 -> 38 | H32: 0 | I32: 4 | J32: 34 | K32: 0 | L32: 0 | M32: =H32+I32 -> 4 | N32: =M32/G32*100 -> 10.526316
D33: 2 | E33: LEUDANUNG | F33: 30 | G33: =H33+I33+J33+K33+L33 -> 30 | H33: 0 | I33: 7 | J33: 23 | K33: 0 | L33: 0 | M33: =H33+I33 -> 7 | N33: =M33/G33*100 -> 23.333333
D34: 3 | E34: LEUWAYANG | F34: 74 | G34: =H34+I34+J34+K34+L34 -> 74 | H34: 0 | I34: 2 | J34: 72 | K34: 0 | L34: 0 | M34: =H34+I34 -> 2 | N34: =M34/G34*100 -> 2.7027027
D35: 4 | E35: ROMA | F35: 26 | G35: =H35+I35+J35+K35+L35 -> 26 | H35: 1 | I35: 4 | J35: 21 | K35: 0 | L35: 0 | M35: =H35+I35 -> 5 | N35: =M35/G35*100 -> 19.230769
D36: 5 | E36: HOLEA II | F36: 35 | G36: =H36+I36+J36+K36+L36 -> 31 | H36: 0 | I36: 4 | J36: 26 | K36: 0 | L36: 1 | M36: =H36+I36 -> 4 | N36: =M36/G36*100 -> 12.903226
D37: 6 | E37: HOLEA | F37: 63 | G37: =H37+I37+J37+K37+L37 -> 63 | H37: 1 | I37: 8 | J37: 52 | K37: 0 | L37: 2 | M37: =H37+I37 -> 9 | N37: =M37/G37*100 -> 14.285714
D38: 7 | E38: DOLULOLONG | F38: 49 | G38: =H38+I38+J38+K38+L38 -> 47 | H38: 1 | I38: 6 | J38: 40 | K38: 0 | L38: 0 | M38: =H38+I38 -> 7 | N38: =M38/G38*100 -> 14.893617
D39: 8 | E39: HINGALAMAMENGI | F39: 89 | G39: =H39+I39+J39+K39+L39 -> 88 | H39: 7 | I39: 13 | J39: 68 | K39: 0 | L39: 0 | M39: =H39+I39 -> 20 | N39: =M39/G39*100 -> 22.727273
D40: 9 | E40: BALAURING | F40: 190 | G40: =H40+I40+J40+K40+L40 -> 122 | H40: 5 | I40: 14 | J40: 103 | K40: 0 | L40: 0 | M40: =H40+I40 -> 19 | N40: =M40/G40*100 -> 15.57377
D41: 10 | E41: LEBEWALA | F41: 71 | G41: =H41+I41+J41+K41+L41 -> 70 | H41: 4 | I41: 11 | J41: 53 | K41: 0 | L41: 2 | M41: =H41+I41 -> 15 | N41: =M41/G41*100 -> 21.428571
...

Sheet UNDERWEIGHT KEC
A1: DATA BALITA UNDERWEIGHT HASIL e-PPGBM
A2: KABUPATEN LEMBATA
A3: PROVINSI NUSA TENGGARA TIMUR
A4: =STUNTING!A4 -> PERIODE SEPTEMBER 2025
A6: NO | B6: KECAMATAN | C6: PUSKESMAS | D6: DESA/KELURAHAN | F6: SASARAN | G6: TOTAL BALITA DITIMBANG | H6: STATUS GIZI (BB/U) | M6: TOTAL BALITA UNDERWEIGHT | N6: % BALITA UNDERWEIGHT
H7: Sangat Kurang | I7: Kurang | J7: BB Normal | K7: Resiko Lebih | L7: Outlier
A8: 1 | B8: 2 | C8: 3 | D8: 4 | F8: 5 | G8: 6 | H8: 7 | I8: 8 | J8: 9 | K8: 10 | L8: 11 | M8: 12=(7+8) | N8: 13=(12/6)
A9: 1 | C9: JUMLAH PUSKESMAS WAIRIANG | F9: =UNDERWEIGHT!F19 -> 710 | G9: =UNDERWEIGHT!G19 -> 691 | H9: =UNDERWEIGHT!H19 -> 10 | I9: =UNDERWEIGHT!I19 -> 37 | J9: =UNDERWEIGHT!J19 -> 641 | K9: =UNDERWEIGHT!K19 -> 3 | L9: =UNDERWEIGHT!L19 -> 0 | M9: =UNDERWEIGHT!M19 -> 47 | N9: =M9/G9*100 -> 6.8017366
A10: 2 | C10: JUMLAH PUSKESMAS BEAN | F10: =UNDERWEIGHT!F30 -> 564 | G10: =UNDERWEIGHT!G30 -> 564 | H10: =UNDERWEIGHT!H30 -> 2 | I10: =UNDERWEIGHT!I30 -> 90 | J10: =UNDERWEIGHT!J30 -> 466 | K10: =UNDERWEIGHT!K30 -> 6 | L10: =UNDERWEIGHT!L30 -> 0 | M10: =UNDERWEIGHT!M30 -> 92 | N10: =M10/G10*100 -> 16.312057
A11: TOTAL KECAMATAN BUYASURI | F11: =F9+F10 -> 1274 | G11: =G9+G10 -> 1255 | H11: =H9+H10 -> 12 | I11: =I9+I10 -> 127 | J11: =J9+J10 -> 1107 | K11: =K9+K10 -> 9 | L11: =L9+L10 -> 0 | M11: =M9+M10 -> 139 | N11: =M11/G11*100 -> 11.075697
A12: 3 | C12: JUMLAH PUSKESMAS BALAURING | F12: =UNDERWEIGHT!F44 -> 759 | G12: =UNDERWEIGHT!G44 -> 680 | H12: =UNDERWEIGHT!H44 -> 18 | I12: =UNDERWEIGHT!I44 -> 132 | J12: =UNDERWEIGHT!J44 -> 518 | K12: =UNDERWEIGHT!K44 -> 7 | L12: =UNDERWEIGHT!L44 -> 5 | M12: =UNDERWEIGHT!M44 -> 150 | N12: =M12/G12*100 -> 22.058824
A13: 4 | C13: JUMLAH PUSKESMAS AUTANAPOQ | F13: =UNDERWEIGHT!F55 -> 531 | G13: =UNDERWEIGHT!G55 -> 531 | H13: =UNDERWEIGHT!H55 -> 6 | I13: =UNDERWEIGHT!I55 -> 70 | J13: =UNDERWEIGHT!J55 -> 450 | K13: =UNDERWEIGHT!K55 -> 5 | L13: =UNDERWEIGHT!L55 -> 0 | M13: =UNDERWEIGHT!M55 -> 76 | N13: =M13/G13*100 -> 14.312618
A14: TOTAL KECAMATAN OMESURI | F14: =F12+F13 -> 1290 | G14: =G12+G13 -> 1211 | H14: =H12+H13 -> 24 | I14: =I12+I13 -> 202 | J14: =J12+J13 -> 968 | K14: =K12+K13 -> 12 | L14: =L12+L13 -> 5 | M14: =M12+M13 -> 226 | N14: =M14/G14*100 -> 18.662263
A15: 5 | C15: JUMLAH PUSKESMAS LEWOLEBA | F15: =UNDERWEIGHT!F64 -> 1826 | G15: =UNDERWEIGHT!G64 -> 1696 | H15: =UNDERWEIGHT!H64 -> 29 | I15: =UNDERWEIGHT!I64 -> 296 | J15: =UNDERWEIGHT!J64 -> 1353 | K15: =UNDERWEIGHT!K64 -> 15 | L15: =UNDERWEIGHT!L64 -> 3 | M15: =UNDERWEIGHT!M64 -> 325 | N15: =M15/G15*100 -> 19.162736
A16: 6 | C16: JUMLAH PUSKESMAS PADA | F16: =UNDERWEIGHT!F76 -> 469 | G16: =UNDERWEIGHT!G76 -> 405 | H16: =UNDERWEIGHT!H76 -> 9 | I16: =UNDERWEIGHT!I76 -> 63 | J16: =UNDERWEIGHT!J76 -> 325 | K16: =UNDERWEIGHT!K76 -> 7 | L16: =UNDERWEIGHT!L76 -> 1 | M16: =H16+I16 -> 72 | N16: =M16/G16*100 -> 17.777778
B17: TOTAL KECAMATAN NUBATUKAN | F17: =SUM(F15:F16) -> 2295 | G17: =SUM(G15:G16) -> 2101 | H17: =SUM(H15:H16) -> 38 | I17: =SUM(I15:I16) -> 359 | J17: =SUM(J15:J16) -> 1678 | K17: =SUM(K15:K16) -> 22 | L17: =L15+L16 -> 4 | M17: =H17+I17 -> 397 | N17: =M17/G17*100 -> 18.895764
A18: 7 | B18: TOTAL KECAMATAN LEBATUKAN/PUSK.HADAKEWA | F18: =UNDERWEIGHT!F103 -> 597 | G18: =UNDERWEIGHT!G103 -> 597 | H18: =UNDERWEIGHT!H103 -> 4 | I18: =UNDERWEIGHT!I103 -> 113 | J18: =UNDERWEIGHT!J103 -> 469 | K18: =UNDERWEIGHT!K103 -> 11 | L18: =UNDERWEIGHT!L103 -> 0 | M18: =H18+I18 -> 117 | N18: =M18/G18*100 -> 19.59799
A19: 8 | B19: TOTAL KECAMATAN ILE APE TIMUR/PUSK LAMAAU | F19: =UNDERWEIGHT!F113 -> 290 | G19: =UNDERWEIGHT!G113 -> 290 | H19: =UNDERWEIGHT!H113 -> 4 | I19: =UNDERWEIGHT!I113 -> 16 | J19: =UNDERWEIGHT!J113 -> 263 | K19: =UNDERWEIGHT!K113 -> 0 | L19: =UNDERWEIGHT!L113 -> 7 | M19: =H19+I19 -> 20 | N19: =M19/G19*100 -> 6.8965517
A20: 9 | B20: TOTAL KECAMATAN ATADEI/PUSK. WAIKNUIT | F20: =UNDERWEIGHT!F129 -> 420 | G20: =UNDERWEIGHT!G129 -> 419 | H20: =UNDERWEIGHT!H129 -> 7 | I20: =UNDERWEIGHT!I129 -> 65 | J20: =UNDERWEIGHT!J129 -> 342 | K20: =UNDERWEIGHT!K129 -> 3 | L20: =UNDERWEIGHT!L129 -> 2 | M20: =H20+I20 -> 72 | N20: =M20/G20*100 -> 17.183771
A21: 10 | B21: TOTAL KECAMATAN WULANDONI/PUSK.WULANDONI | F21: =UNDERWEIGHT!F145 -> 469 | G21: =UNDERWEIGHT!G145 -> 450 | H21: =UNDERWEIGHT!H145 -> 10 | I21: =UNDERWEIGHT!I145 -> 73 | J21: =UNDERWEIGHT!J145 -> 359 | K21: =UNDERWEIGHT!K145 -> 6 | L21: =UNDERWEIGHT!L145 -> 2 | M21: =H21+I21 -> 83 | N21: =M21/G21*100 -> 18.444444
A22: 11 | B22: TOTAL KECAMATAN NAGAWUTUN/PUSK.LOANG | F22: =UNDERWEIGHT!F175 -> 611 | G22: =UNDERWEIGHT!G175 -> 606 | H22: =UNDERWEIGHT!H175 -> 7 | I22: =UNDERWEIGHT!I175 -> 58 | J22: =UNDERWEIGHT!J175 -> 532 | K22: =UNDERWEIGHT!K175 -> 8 | L22: =UNDERWEIGHT!L175 -> 1 | M22: ='UNDERWEIGHT KEC'!H22+I22 -> 65 | N22: =M22/G22*100 -> 10.726073
A23: 12 | B23: TOTAL KECAMATAN ILE APE /PUSK.WAIPUKANG | F23: =UNDERWEIGHT!F193 -> 662 | G23: =UNDERWEIGHT!G193 -> 617 | H23: =UNDERWEIGHT!H193 -> 13 | I23: =UNDERWEIGHT!I193 -> 100 | J23: =UNDERWEIGHT!J193 -> 496 | K23: =UNDERWEIGHT!K193 -> 6 | L23: =UNDERWEIGHT!L193 -> 2 | M23: ='UNDERWEIGHT KEC'!H23+I23 -> 113 | N23: =M23/G23*100 -> 18.314425
A24: TOTAL KABUPATEN | F24: =F11+F14+F17+F18+F19+F20+F21+F22+F23 -> 7908 | G24: =G11+G14+G17+G18+G19+G20+G21+G22+G23 -> 7546 | H24: =H11+H14+H17+H18+H19+H20+H21+H22+H23 -> 119 | I24: =I11+I14+I17+I18+I19+I20+I21+I22+I23 -> 1113 | J24: =J11+J14+J17+J18+J19+J20+J21+J22+J23 -> 6214 | K24: =K11+K14+K17+K18+K19+K20+K21+K22+K23 -> 77 | L24: =L11+L14+L17+L18+L19+L20+L21+L22+L23 -> 23 | M24: =M11+M14+M17+M18+M19+M20+M21+M22+M23 -> 1232 | N24: =M24/G24*100 -> 16.326531
I26: =STUNTING!G177 -> Lewoleba,30 September 2025
I27: Plt.Kepala Dinas Kesehatan
I28: Kabupten Lembata
I32: =STUNTING!G183 -> dr.Goerillya A. Huar Noning
I33: =STUNTING!G184 -> Pembina Tk .I
I34: =STUNTING!G185 -> NIP.19741114 200604 1 008

Sheet UNDERWEIGHT
A1: DATA BALITA UNDERWEIGHT HASIL e-PPGBM
A2: KABUPATEN LEMBATA
A3: PROVINSI NUSA TENGGARA TIMUR
A4: =STUNTING!A4 -> PERIODE SEPTEMBER 2025
A6: NO | B6: KECAMATAN | C6: PUSKESMAS | D6: DESA/KELURAHAN | F6: SASARAN | G6: TOTAL BALITA DITIMBANG | H6: STATUS GIZI (BB/U) | M6: TOTAL BALITA UNDERWEIGHT | N6: % BALITA UNDERWEIGHT
H7: Sangat Kurang | I7: Kurang | J7: BB Normal | K7: Resiko Lebih | L7: Outlier
A8: 1 | B8: 2 | C8: 3 | D8: 4 | F8: 5 | G8: 6 | H8: 7 | I8: 8 | J8: 9 | K8: 10 | L8: 11 | M8: 12=(7+8) | N8: 13=(12/6)
A9: 1 | B9: BUYASURI | C9: WAIRIANG | D9: 1 | E9: TOBOTANI | F9: =STUNTING!F9 -> 66 | G9: =H9+I9+J9+K9+L9 -> 66 | H9: 0 | I9: 2 | J9: 64 | K9: 0 | L9: 0 | M9: =H9+I9 -> 2 | N9: =M9/G9*100 -> 3.030303
D10: 2 | E10: KALIKUR WL | F10: =STUNTING!F10 -> 65 | G10: =H10+I10+J10+K10+L10 -> 64 | H10: 0 | I10: 4 | J10: 60 | K10: 0 | L10: 0 | M10: =H10+I10 -> 4 | N10: =M10/G10*100 -> 6.25
D11: 3 | E11: KAOHUA | F11: =STUNTING!F11 -> 93 | G11: =H11+I11+J11+K11+L11 -> 92 | H11: 2 | I11: 8 | J11: 80 | K11: 2 | L11: 0 | M11: =H11+I11 -> 10 | N11: =M11/G11*100 -> 10.869565
D12: 4 | E12: UMALEU | F12: =STUNTING!F12 -> 94 | G12: =H12+I12+J12+K12+L12 -> 94 | H12: 1 | I12: 4 | J12: 89 | K12: 0 | L12: 0 | M12: =H12+I12 -> 5 | N12: =M12/G12*100 -> 5.3191489
D13: 5 | E13: BURIWUTUNG | F13: =STUNTING!F13 -> 77 | G13: =H13+I13+J13+K13+L13 -> 71 | H13: 1 | I13: 2 | J13: 67 | K13: 1 | L13: 0 | M13: =H13+I13 -> 3 | N13: =M13/G13*100 -> 4.2253521
D14: 6 | E14: MAMPIR | F14: =STUNTING!F14 -> 79 | G14: =H14+I14+J14+K14+L14 -> 78 | H14: 1 | I14: 5 | J14: 72 | K14: 0 | L14: 0 | M14: =H14+I14 -> 6 | N14: =M14/G14*100 -> 7.6923077
D15: 7 | E15: LEUWOHUNG | F15: =STUNTING!F15 -> 65 | G15: =H15+I15+J15+K15+L15 -> 63 | H15: 1 | I15: 1 | J15: 61 | K15: 0 | L15: 0 | M15: =H15+I15 -> 2 | N15: =M15/G15*100 -> 3.1746032
D16: 8 | E16: BARENG | F16: =STUNTING!F16 -> 44 | G16: =H16+I16+J16+K16+L16 -> 44 | H16: 1 | I16: 3 | J16: 40 | K16: 0 | L16: 0 | M16: =H16+I16 -> 4 | N16: =M16/G16*100 -> 9.0909091
D17: 9 | E17: KALIKUR | F17: =STUNTING!F17 -> 79 | G17: =H17+I17+J17+K17+L17 -> 73 | H17: 1 | I17: 3 | J17: 69 | K17: 0 | L17: 0 | M17: =H17+I17 -> 4 | N17: =M17/G17*100 -> 5.4794521
D18: 10 | E18: RUMANG | F18: =STUNTING!F18 -> 48 | G18: =H18+I18+J18+K18+L18 -> 46 | H18: 2 | I18: 5 | J18: 39 | K18: 0 | L18: 0 | M18: =H18+I18 -> 7 | N18: =M18/G18*100 -> 15.217391
C19: JUMLAH PUSKESMAS WAIRIANG | F19: =SUM(F9:F18) -> 710 | G19: =SUM(G9:G18) -> 691 | H19: =SUM(H9:H18) -> 10 | I19: =SUM(I9:I18) -> 37 | J19: =SUM(J9:J18) -> 641 | K19: =SUM(K9:K18) -> 3 | L19: =SUM(L9:L18) -> 0 | M19: =H19+I19 -> 47 | N19: =M19/G19*100 -> 6.8017366
A20: 2 | C20: BEAN | D20: 1 | E20: PANAMA | F20: =STUNTING!F20 -> 92 | G20: =H20+I20+J20+K20+L20 -> 92 | H20: 0 | I20: 7 | J20: 84 | K20: 1 | L20: 0 | M20: =H20+I20 -> 7 | N20: =M20/G20*100 -> 7.6086957
D21: 2 | E21: BEAN | F21: =STUNTING!F21 -> 38 | G21: =H21+I21+J21+K21+L21 -> 38 | H21: 0 | I21: 4 | J21: 34 | K21: 0 | L21: 0 | M21: =H21+I21 -> 4 | N21: =M21/G21*100 -> 10.526316
D22: 3 | E22: BENIHADING | F22: =STUNTING!F22 -> 28 | G22: =H22+I22+J22+K22+L22 -> 28 | H22: 0 | I22: 2 | J22: 24 | K22: 2 | L22: 0 | M22: =H22+I22 -> 2 | N22: =M22/G22*100 -> 7.1428571
D23: 4 | E23: BENIHADING II | F23: =STUNTING!F23 -> 95 | G23: =H23+I23+J23+K23+L23 -> 95 | H23: 0 | I23: 14 | J23: 80 | K23: 1 | L23: 0 | M23: =H23+I23 -> 14 | N23: =M23/G23*100 -> 14.736842
D24: 5 | E24: ATULALENG | F24: =STUNTING!F24 -> 41 | G24: =H24+I24+J24+K24+L24 -> 41 | H24: 1 | I24: 9 | J24: 31 | K24: 0 | L24: 0 | M24: =H24+I24 -> 10 | N24: =M24/G24*100 -> 24.390244
D25: 6 | E25: TUBUNG WALANG | F25: =STUNTING!F25 -> 24 | G25: =H25+I25+J25+K25+L25 -> 24 | H25: 0 | I25: 3 | J25: 19 | K25: 2 | L25: 0 | M25: =H25+I25 -> 3 | N25: =M25/G25*100 -> 12.5
D26: 7 | E26: ROHO | F26: =STUNTING!F26 -> 58 | G26: =H26+I26+J26+K26+L26 -> 58 | H26: 0 | I26: 13 | J26: 45 | K26: 0 | L26: 0 | M26: =H26+I26 -> 13 | N26: =M26/G26*100 -> 22.413793
D27: 8 | E27: LOYOBOHOR | F27: =STUNTING!F27 -> 56 | G27: =H27+I27+J27+K27+L27 -> 56 | H27: 1 | I27: 8 | J27: 47 | K27: 0 | L27: 0 | M27: =H27+I27 -> 9 | N27: =M27/G27*100 -> 16.071429
D28: 9 | E28: LEUBURI | F28: =STUNTING!F28 -> 89 | G28: =H28+I28+J28+K28+L28 -> 89 | H28: 0 | I28: 17 | J28: 72 | K28: 0 | L28: 0 | M28: =H28+I28 -> 17 | N28: =M28/G28*100 -> 19.101124
D29: 10 | E29: ATU WALUPANG | F29: =STUNTING!F29 -> 43 | G29: =H29+I29+J29+K29+L29 -> 43 | H29: 0 | I29: 13 | J29: 30 | K29: 0 | L29: 0 | M29: =H29+I29 -> 13 | N29: =M29/G29*100 -> 30.232558
C30: JUMLAH PUSKESMAS BEAN | F30: =SUM(F20:F29) -> 564 | G30: =SUM(G20:G29) -> 564 | H30: =SUM(H20:H29) -> 2 | I30: =SUM(I20:I29) -> 90 | J30: =SUM(J20:J29) -> 466 | K30: =SUM(K20:K29) -> 6 | L30: =SUM(L20:L29) -> 0 | M30: =H30+I30 -> 92 | N30: =M30/G30*100 -> 16.312057
A31: TOTAL KECAMATAN BUYASURI | F31: =F19+F30 -> 1274 | G31: =G19+G30 -> 1255 | H31: =H19+H30 -> 12 | I31: =I19+I30 -> 127 | J31: =J19+J30 -> 1107 | K31: =K19+K30 -> 9 | L31: =L19+L30 -> 0 | M31: =M19+M30 -> 139 | N31: =M31/G31*100 -> 11.075697
A32: 3 | B32: OMESURI | C32: BALAURING | D32: 1 | E32: NORMAL | F32: =STUNTING!F32 -> 38 | G32: =H32+I32+J32+K32+L32 -> 38 | H32: 0 | I32: 9 | J32: 29 | K32: 0 | L32: 0 | M32: =H32+I32 -> 9 | N32: =M32/G32*100 -> 23.684211
D33: 2 | E33: LEUDANUNG | F33: =STUNTING!F33 -> 30 | G33: =H33+I33+J33+K33+L33 -> 30 | H33: 1 | I33: 5 | J33: 24 | K33: 0 | L33: 0 | M33: =H33+I33 -> 6 | N33: =M33/G33*100 -> 20
D34: 3 | E34: LEUWAYANG | F34: =STUNTING!F34 -> 74 | G34: =H34+I34+J34+K34+L34 -> 74 | H34: 2 | I34: 12 | J34: 58 | K34: 2 | L34: 0 | M34: =H34+I34 -> 14 | N34: =M34/G34*100 -> 18.918919
D35: 4 | E35: ROMA | F35: =STUNTING!F35 -> 26 | G35: =H35+I35+J35+K35+L35 -> 26 | H35: 0 | I35: 5 | J35: 21 | K35: 0 | L35: 0 | M35: =H35+I35 -> 5 | N35: =M35/G35*100 -> 19.230769
D36: 5 | E36: HOELEA II | F36: =STUNTING!F36 -> 35 | G36: =H36+I36+J36+K36+L36 -> 31 | H36: 0 | I36: 4 | J36: 26 | K36: 0 | L36: 1 | M36: =H36+I36 -> 4 | N36: =M36/G36*100 -> 12.903226
D37: 6 | E37: HOELEA | F37: =STUNTING!F37 -> 63 | G37: =H37+I37+J37+K37+L37 -> 63 | H37: 2 | I37: 10 | J37: 48 | K37: 1 | L37: 2 | M37: =H37+I37 -> 12 | N37: =M37/G37*100 -> 19.047619
D38: 7 | E38: DOLULOLONG | F38: =STUNTING!F38 -> 49 | G38: =H38+I38+J38+K38+L38 -> 47 | H38: 2 | I38: 6 | J38: 39 | K38: 0 | L38: 0 | M38: =H38+I38 -> 8 | N38: =M38/G38*100 -> 17.021277
D39: 8 | E39: HINGALAMAMENGI | F39: =STUNTING!F39 -> 89 | G39: =H39+I39+J39+K39+L39 -> 88 | H39: 5 | I39: 19 | J39: 64 | K39: 0 | L39: 0 | M39: =H39+I39 -> 24 | N39: =M39/G39*100 -> 27.272727
D40: 9 | E40: BALAURING | F40: =STUNTING!F40 -> 190 | G40: =H40+I40+J40+K40+L40 -> 122 | H40: 1 | I40: 24 | J40: 95 | K40: 2 | L40: 0 | M40: =H40+I40 -> 25 | N40: =M40/G40*100 -> 20.491803
D41: 10 | E41: LEBEWALA | F41: =STUNTING!F41 -> 71 | G41: =H41+I41+J41+K41+L41 -> 70 | H41: 3 | I41: 12 | J41: 52 | K41: 1 | L41: 2 | M41: =H41+I41 -> 15 | N41: =M41/G41*100 -> 21.428571
...

Sheet WASTING KEC
A1: DATA BALITA WASTING HASIL e-PPGBM
A2: PROVINSI NUSA TENGGARA TIMUR
A3: =STUNTING!A4 -> PERIODE SEPTEMBER 2025
A5: NO | B5: KECAMATAN | C5: PUSKESMAS | D5: DESA/KELURAHAN | F5: SASARAN | G5: TOTAL BALITA DIUKUR & DITIMBANG | H5: STATUS GIZI (BB/TB) | O5: TOTAL BALITA WASTING | P5: % BALITA WASTING
H6: Gizi Buruk | I6: Gizi Kurang | J6: Normal | K6: Risiko Gizi Lebih | L6: Gizi Lebih | M6: Obesitas | N6: Outlier
A7: 1 | B7: 2 | C7: 3 | D7: 4 | F7: 5 | G7: 6 | H7: 7 | I7: 8 | J7: 9 | K7: 10 | L7: 11 | M7: 12 | N7: 13 | O7: 14(7+8) | P7: 15(14/6)
A8: 1 | C8: JUMLAH PUSKESMAS WAIRIANG | F8: =STUNTING!F19 -> 710 | G8: =WASTING!G18 -> 691 | H8: =WASTING!H18 -> 5 | I8: =WASTING!I18 -> 24 | J8: =WASTING!J18 -> 643 | K8: =WASTING!K18 -> 18 | L8: =WASTING!L18 -> 0 | M8: =WASTING!M18 -> 0 | N8: =WASTING!N18 -> 1 | O8: =H8+I8 -> 29 | P8: =O8/G8*100 -> 4.1968162
A9: 2 | C9: JUMLAH PUSKESMAS BEAN | F9: =STUNTING!F30 -> 564 | G9: =WASTING!G29 -> 564 | H9: =WASTING!H29 -> 1 | I9: =WASTING!I29 -> 36 | J9: =WASTING!J29 -> 503 | K9: =WASTING!K29 -> 20 | L9: =WASTING!L29 -> 4 | M9: =WASTING!M29 -> 0 | N9: =WASTING!N29 -> 0 | O9: =H9+I9 -> 37 | P9: =O9/G9*100 -> 6.5602837
F10: =F8+F9 -> 1274 | G10: =G8+G9 -> 1255 | H10: =H8+H9 -> 6 | I10: =I8+I9 -> 60 | J10: =J8+J9 -> 1146 | K10: =K8+K9 -> 38 | L10: =L8+L9 -> 4 | M10: =M8+M9 -> 0 | N10: =N8+N9 -> 1 | O10: =H10+I10 -> 66 | P10: =O10/G10*100 -> 5.2589641
A11: 3 | C11: JUMLAH PUSKESMAS BALAURING | F11: =STUNTING!F44 -> 759 | G11: =WASTING!G43 -> 680 | H11: =WASTING!H43 -> 4 | I11: =WASTING!I43 -> 53 | J11: =WASTING!J43 -> 595 | K11: =WASTING!K43 -> 23 | L11: =WASTING!L43 -> 0 | M11: =WASTING!M43 -> 0 | N11: =WASTING!N43 -> 5 | O11: =H11+I11 -> 57 | P11: =O11/G11*100 -> 8.3823529
A12: 4 | C12: JUMLAH PUSKESMAS ATONAPOQ | F12: =STUNTING!F55 -> 531 | G12: =WASTING!G54 -> 531 | H12: =WASTING!H54 -> 6 | I12: =WASTING!I54 -> 28 | J12: =WASTING!J54 -> 462 | K12: =WASTING!K54 -> 30 | L12: =WASTING!L54 -> 5 | M12: =WASTING!M54 -> 0 | N12: =WASTING!N54 -> 0 | O12: =H12+I12 -> 34 | P12: =O12/G12*100 -> 6.4030132
A13: TOTAL KECAMATAN | F13: =F11+F12 -> 1290 | G13: =G11+G12 -> 1211 | H13: =H11+H12 -> 10 | I13: =I11+I12 -> 81 | J13: =J11+J12 -> 1057 | K13: =K11+K12 -> 53 | L13: =L11+L12 -> 5 | M13: =M11+M12 -> 0 | N13: =N11+N12 -> 5 | O13: =H13+I13 -> 91 | P13: =O13/G13*100 -> 7.5144509
A14: 5 | C14: JUMLAH PUSKESMAS LEWOLEBA | F14: =STUNTING!F64 -> 1826 | G14: =WASTING!G63 -> 1696 | H14: =WASTING!H63 -> 8 | I14: =WASTING!I63 -> 111 | J14: =WASTING!J63 -> 1504 | K14: =WASTING!K63 -> 60 | L14: =WASTING!L63 -> 9 | M14: =WASTING!M63 -> 1 | N14: =WASTING!N63 -> 3 | O14: =H14+I14 -> 119 | P14: =O14/G14*100 -> 7.0165094
A15: 6 | C15: JUMLAH PUSKESMAS PADA | F15: =STUNTING!F76 -> 469 | G15: =WASTING!G75 -> 405 | H15: =WASTING!H75 -> 2 | I15: =WASTING!I75 -> 30 | J15: =WASTING!J75 -> 356 | K15: =WASTING!K75 -> 12 | L15: =WASTING!L75 -> 3 | M15: =WASTING!M75 -> 1 | N15: =WASTING!N75 -> 1 | O15: =H15+I15 -> 32 | P15: =O15/G15*100 -> 7.9012346
B16: TOTAL KECAMATAN NUBATUKAN | F16: =F14+F15 -> 2295 | G16: =+G14+G15 -> 2101 | H16: =H14+H15 -> 10 | I16: =I14+I15 -> 141 | J16: =J14+J15 -> 1860 | K16: =K14+K15 -> 72 | L16: =L14+L15 -> 12 | M16: =M14+M15 -> 2 | N16: =N14+N15 -> 4 | O16: =H16+I16 -> 151 | P16: =O16/G16*100 -> 7.1870538
A17: 7 | B17: TOTAL KECAMATAN LEBATUKAN/PUSK.HADAKEWA | F17: =STUNTING!F95 -> 597 | G17: =WASTING!G94 -> 597 | H17: =WASTING!H94 -> 2 | I17: =WASTING!I94 -> 37 | J17: =WASTING!J94 -> 532 | K17: =WASTING!K94 -> 20 | L17: =WASTING!L94 -> 4 | M17: =WASTING!M94 -> 2 | N17: =WASTING!N94 -> 0 | O17: =H17+I17 -> 39 | P17: =O17/G17*100 -> 6.5326633
A18: 8 | B18: TOTAL KECAMATAN ILE APE TIMUR/PUSK.LAMAAU | F18: =STUNTING!F105 -> 290 | G18: =WASTING!G131 -> 290 | H18: =WASTING!H131 -> 1 | I18: =WASTING!I131 -> 5 | J18: =WASTING!J131 -> 272 | K18: =WASTING!K131 -> 5 | L18: =WASTING!L131 -> 0 | M18: =WASTING!M131 -> 0 | N18: =WASTING!N131 -> 7 | O18: =H18+I18 -> 6 | P18: =O18/G18*100 -> 2.0689655
A19: 9 | B19: TOTAL KECAMATAN ATADEI/PUSK WAIKNUIT | F19: =STUNTING!F121 -> 420 | G19: =WASTING!G147 -> 419 | H19: =WASTING!H147 -> 3 | I19: =WASTING!I147 -> 33 | J19: =WASTING!J147 -> 356 | K19: =WASTING!K147 -> 22 | L19: =WASTING!L147 -> 3 | M19: =WASTING!M147 -> 0 | N19: =WASTING!N147 -> 2 | O19: =H19+I19 -> 36 | P19: =O19/G19*100 -> 8.5918854
A20: 10 | B20: TOTAL KECAMATAN WULANDONI/PUSK.WULANDONI | F20: =STUNTING!F137 -> 469 | G20: =WASTING!G163 -> 450 | H20: =WASTING!H163 -> 0 | I20: =WASTING!I163 -> 23 | J20: =WASTING!J163 -> 415 | K20: =WASTING!K163 -> 9 | L20: =WASTING!L163 -> 1 | M20: =WASTING!M163 -> 0 | N20: =WASTING!N163 -> 2 | O20: =H20+I20 -> 23 | P20: =O20/G20*100 -> 5.1111111
A21: 11 | B21: TOTAL KECAMATAN NAGAUTUN/PUSK. LOANG | F21: =STUNTING!F156 -> 611 | G21: =WASTING!G182 -> 606 | H21: =WASTING!H182 -> 8 | I21: =WASTING!I182 -> 31 | J21: =WASTING!J182 -> 527 | K21: =WASTING!K182 -> 32 | L21: =WASTING!L182 -> 5 | M21: =WASTING!M182 -> 2 | N21: =WASTING!N182 -> 1 | O21: =H21+I21 -> 39 | P21: =O21/G21*100 -> 6.4356436
A22: 12 | B22: TOTAL KECAMATAN ILE APE/PUSK WAIPUKANG | F22: =STUNTING!F174 -> 662 | G22: =WASTING!G200 -> 617 | H22: =WASTING!H200 -> 2 | I22: =WASTING!I200 -> 53 | J22: =WASTING!J200 -> 537 | K22: =WASTING!K200 -> 20 | L22: =WASTING!L200 -> 2 | M22: =WASTING!M200 -> 1 | N22: =WASTING!N200 -> 2 | O22: =H22+I22 -> 55 | P22: =O22/G22*100 -> 8.9141005
A23: TOTAL KABUPATEN | F23: =F10+F13+F16+F17+F18+F19+F20+F21+F22 -> 7908 | G23: =G10+G13+G16+G17+G18+G19+G20+G21+G22 -> 7546 | H23: =H10+H13+H16+H17+H18+H19+H20+H21+H22 -> 42 | I23: =I10+I13+I16+I17+I18+I19+I20+I21+I22 -> 464 | J23: =J10+J13+J16+J17+J18+J19+J20+J21+J22 -> 6702 | K23: =K10+K13+K16+K17+K18+K19+K20+K21+K22 -> 271 | L23: =L10+L13+L16+L17+L18+L19+L20+L21+L22 -> 36 | M23: =M10+M13+M16+M17+M18+M19+M20+M21+M22 -> 7 | N23: =N10+N13+N16+N17+N18+N19+N20+N21+N22 -> 24 | O23: =H23+I23 -> 506 | P23: =O23/G23*100 -> 6.7055394
J28: =STUNTING!G177 -> Lewoleba,30 September 2025
J29: Plt.Kepala Dinas Kesehatan
J30: Kabupten Lembata
J34: =STUNTING!G183 -> dr.Goerillya A. Huar Noning
J35: =STUNTING!G184 -> Pembina Tk .I
J36: =STUNTING!G185 -> NIP.19741114 200604 1 008

Sheet WASTING
A1: DATA BALITA WASTING HASIL e-PPGBM
A2: PROVINSI NUSA TENGGARA TIMUR
A3: =STUNTING!A4 -> PERIODE SEPTEMBER 2025
A5: NO | B5: KECAMATAN | C5: PUSKESMAS | D5: DESA/KELURAHAN | F5: SASARAN | G5: TOTAL BALITA DIUKUR & DITIMBANG | H5: STATUS GIZI (BB/TB) | O5: TOTAL BALITA WASTING | P5: % BALITA WASTING
H6: Gizi Buruk | I6: Gizi Kurang | J6: Normal | K6: Risiko Gizi Lebih | L6: Gizi Lebih | M6: Obesitas | N6: Outlier
A7: 1 | B7: 2 | C7: 3 | D7: 4 | F7: 5 | G7: 6 | H7: 7 | I7: 8 | J7: 9 | K7: 10 | L7: 11 | M7: 12 | N7: 13 | O7: 14(7+8) | P7: (14/6)
A8: 1 | B8: BUYASURI | C8: WAIRIANG | D8: 1 | E8: TOBOTANI | F8: =STUNTING!F9 -> 66 | G8: =H8+I8+J8+K8+L8+M8+N8 -> 66 | H8: 0 | I8: 1 | J8: 65 | K8: 0 | L8: 0 | M8: 0 | N8: 0 | O8: =H8+I8 -> 1 | P8: =O8/G8*100 -> 1.5151515
D9: 2 | E9: KALIKUR WL | F9: =STUNTING!F10 -> 65 | G9: =H9+I9+J9+K9+L9+M9+N9 -> 64 | H9: 0 | I9: 4 | J9: 58 | K9: 2 | L9: 0 | M9: 0 | N9: 0 | O9: =H9+I9 -> 4 | P9: =O9/G9*100 -> 6.25
D10: 3 | E10: KAOHUA | F10: =STUNTING!F11 -> 93 | G10: =H10+I10+J10+K10+L10+M10+N10 -> 92 | H10: 2 | I10: 2 | J10: 86 | K10: 1 | L10: 0 | M10: 0 | N10: 1 | O10: =H10+I10 -> 4 | P10: =O10/G10*100 -> 4.3478261
D11: 4 | E11: UMALEU | F11: =STUNTING!F12 -> 94 | G11: =H11+I11+J11+K11+L11+M11+N11 -> 94 | H11: 1 | I11: 2 | J11: 89 | K11: 2 | L11: 0 | M11: 0 | N11: 0 | O11: =H11+I11 -> 3 | P11: =O11/G11*100 -> 3.1914894
D12: 5 | E12: BURIWUTUNG | F12: =STUNTING!F13 -> 77 | G12: =H12+I12+J12+K12+L12+M12+N12 -> 71 | H12: 0 | I12: 1 | J12: 67 | K12: 3 | L12: 0 | M12: 0 | N12: 0 | O12: =H12+I12 -> 1 | P12: =O12/G12*100 -> 1.4084507
D13: 6 | E13: MAMPIR | F13: =STUNTING!F14 -> 79 | G13: =H13+I13+J13+K13+L13+M13+N13 -> 78 | H13: 1 | I13: 4 | J13: 72 | K13: 1 | L13: 0 | M13: 0 | N13: 0 | O13: =H13+I13 -> 5 | P13: =O13/G13*100 -> 6.4102564
D14: 7 | E14: LEUWOHUNG | F14: =STUNTING!F15 -> 65 | G14: =H14+I14+J14+K14+L14+M14+N14 -> 63 | H14: 0 | I14: 1 | J14: 58 | K14: 4 | L14: 0 | M14: 0 | N14: 0 | O14: =H14+I14 -> 1 | P14: =O14/G14*100 -> 1.5873016
D15: 8 | E15: BARENG | F15: =STUNTING!F16 -> 44 | G15: =H15+I15+J15+K15+L15+M15+N15 -> 44 | H15: 0 | I15: 3 | J15: 39 | K15: 2 | L15: 0 | M15: 0 | N15: 0 | O15: =H15+I15 -> 3 | P15: =O15/G15*100 -> 6.8181818
D16: 9 | E16: KALIKUR | F16: =STUNTING!F17 -> 79 | G16: =H16+I16+J16+K16+L16+M16+N16 -> 73 | H16: 0 | I16: 2 | J16: 69 | K16: 2 | L16: 0 | M16: 0 | N16: 0 | O16: =H16+I16 -> 2 | P16: =O16/G16*100 -> 2.739726
D17: 10 | E17: RUMANG | F17: =STUNTING!F18 -> 48 | G17: =H17+I17+J17+K17+L17+M17+N17 -> 46 | H17: 1 | I17: 4 | J17: 40 | K17: 1 | L17: 0 | M17: 0 | N17: 0 | O17: =H17+I17 -> 5 | P17: =O17/G17*100 -> 10.869565
C18: JUMLAH PUSKESMAS WAIRIANG | F18: =SUM(F8:F17) -> 710 | G18: =SUM(G8:G17) -> 691 | H18: =SUM(H8:H17) -> 5 | I18: =SUM(I8:I17) -> 24 | J18: =SUM(J8:J17) -> 643 | K18: =SUM(K8:K17) -> 18 | L18: =SUM(L8:L17) -> 0 | M18: =SUM(M8:M17) -> 0 | N18: =SUM(N8:N17) -> 1 | O18: =H18+I18 -> 29 | P18: =O18/G18*100 -> 4.1968162
A19: 2 | C19: BEAN | D19: 11 | E19: PANAMA | F19: =STUNTING!F20 -> 92 | G19: =H19+I19+J19+K19+L19+M19+N19 -> 92 | H19: 1 | I19: 3 | J19: 84 | K19: 3 | L19: 1 | M19: 0 | N19: 0 | O19: =H19+I19 -> 4 | P19: =O19/G19*100 -> 4.3478261
D20: 12 | E20: BEAN | F20: =STUNTING!F21 -> 38 | G20: =H20+I20+J20+K20+L20+M20+N20 -> 38 | H20: 0 | I20: 2 | J20: 35 | K20: 1 | L20: 0 | M20: 0 | N20: 0 | O20: =H20+I20 -> 2 | P20: =O20/G20*100 -> 5.2631579
D21: 13 | E21: BENIHADING | F21: =STUNTING!F22 -> 28 | G21: =H21+I21+J21+K21+L21+M21+N21 -> 28 | H21: 0 | I21: 2 | J21: 24 | K21: 2 | L21: 0 | M21: 0 | N21: 0 | O21: =H21+I21 -> 2 | P21: =O21/G21*100 -> 7.1428571
D22: 14 | E22: BENIHADING II | F22: =STUNTING!F23 -> 95 | G22: =H22+I22+J22+K22+L22+M22+N22 -> 95 | H22: 0 | I22: 4 | J22: 85 | K22: 4 | L22: 2 | M22: 0 | N22: 0 | O22: =H22+I22 -> 4 | P22: =O22/G22*100 -> 4.2105263
D23: 15 | E23: ATULALENG | F23: =STUNTING!F24 -> 41 | G23: =H23+I23+J23+K23+L23+M23+N23 -> 41 | H23: 0 | I23: 4 | J23: 35 | K23: 2 | L23: 0 | M23: 0 | N23: 0 | O23: =H23+I23 -> 4 | P23: =O23/G23*100 -> 9.7560976
D24: 16 | E24: TUBUNG WALANG | F24: =STUNTING!F25 -> 24 | G24: =H24+I24+J24+K24+L24+M24+N24 -> 24 | H24: 0 | I24: 1 | J24: 20 | K24: 3 | L24: 0 | M24: 0 | N24: 0 | O24: =H24+I24 -> 1 | P24: =O24/G24*100 -> 4.1666667
D25: 17 | E25: ROHO | F25: =STUNTING!F26 -> 58 | G25: =H25+I25+J25+K25+L25+M25+N25 -> 58 | H25: 0 | I25: 4 | J25: 52 | K25: 2 | L25: 0 | M25: 0 | N25: 0 | O25: =H25+I25 -> 4 | P25: =O25/G25*100 -> 6.8965517
D26: 18 | E26: LOYOBOHOR | F26: =STUNTING!F27 -> 56 | G26: =H26+I26+J26+K26+L26+M26+N26 -> 56 | H26: 0 | I26: 3 | J26: 51 | K26: 2 | L26: 0 | M26: 0 | N26: 0 | O26: =H26+I26 -> 3 | P26: =O26/G26*100 -> 5.3571429
D27: 19 | E27: LEUBURI | F27: =STUNTING!F28 -> 89 | G27: =H27+I27+J27+K27+L27+M27+N27 -> 89 | H27: 0 | I27: 7 | J27: 80 | K27: 1 | L27: 1 | M27: 0 | N27: 0 | O27: =H27+I27 -> 7 | P27: =O27/G27*100 -> 7.8651685
D28: 20 | E28: ATU WALUPANG | F28: =STUNTING!F29 -> 43 | G28: =H28+I28+J28+K28+L28+M28+N28 -> 43 | H28: 0 | I28: 6 | J28: 37 | K28: 0 | L28: 0 | M28: 0 | N28: 0 | O28: =H28+I28 -> 6 | P28: =O28/G28*100 -> 13.953488
C29: JUMLAH PUSKESMAS BEAN | F29: =SUM(F19:F28) -> 564 | G29: =SUM(G19:G28) -> 564 | H29: =SUM(H19:H28) -> 1 | I29: =SUM(I19:I28) -> 36 | J29: =SUM(J19:J28) -> 503 | K29: =SUM(K19:K28) -> 20 | L29: =SUM(L19:L28) -> 4 | M29: =SUM(M19:M28) -> 0 | N29: =SUM(N19:N28) -> 0 | O29: =H29+I29 -> 37 | P29: =O29/G29*100 -> 6.5602837 | R29: =SUM(R19:R28) -> 0
A30: TOTAL KECAMATAN BUYASURI | F30: =F18+F29 -> 1274 | G30: =G29+G18 -> 1255 | H30: =H29+H18 -> 6 | I30: =I29+I18 -> 60 | J30: =J29+J18 -> 1146 | K30: =K29+K18 -> 38 | L30: =L29+L18 -> 4 | M30: =M29+M18 -> 0 | N30: =N29+N18 -> 1 | O30: =O29+O18 -> 66 | P30: =O30/G30*100 -> 5.2589641
A31: 3 | B31: OMESURI | C31: BALAURING | D31: 1 | E31: NORMAL | F31: =STUNTING!F32 -> 38 | G31: =H31+I31+J31+K31+L31+M31+N31 -> 38 | H31: 0 | I31: 3 | J31: 35 | K31: 0 | L31: 0 | M31: 0 | N31: 0 | O31: =H31+I31 -> 3 | P31: =O31/G31*100 -> 7.8947368
D32: 2 | E32: LEUDANUNG | F32: =STUNTING!F33 -> 30 | G32: =H32+I32+J32+K32+L32+M32+N32 -> 30 | H32: 1 | I32: 2 | J32: 26 | K32: 1 | L32: 0 | M32: 0 | N32: 0 | O32: =H32+I32 -> 3 | P32: =O32/G32*100 -> 10
D33: 3 | E33: LEUWAYANG | F33: =STUNTING!F34 -> 74 | G33: =H33+I33+J33+K33+L33+M33+N33 -> 74 | H33: 2 | I33: 9 | J33: 60 | K33: 3 | L33: 0 | M33: 0 | N33: 0 | O33: =H33+I33 -> 11 | P33: =O33/G33*100 -> 14.864865
D34: 4 | E34: ROMA | F34: =STUNTING!F35 -> 26 | G34: =H34+I34+J34+K34+L34+M34+N34 -> 26 | H34: 0 | I34: 3 | J34: 21 | K34: 2 | L34: 0 | M34: 0 | N34: 0 | O34: =H34+I34 -> 3 | P34: =O34/G34*100 -> 11.538462
D35: 5 | E35: HOELEA II | F35: =STUNTING!F36 -> 35 | G35: =H35+I35+J35+K35+L35+M35+N35 -> 31 | H35: 0 | I35: 2 | J35: 28 | K35: 0 | L35: 0 | M35: 0 | N35: 1 | O35: =H35+I35 -> 2 | P35: =O35/G35*100 -> 6.4516129
D36: 6 | E36: HOELEA | F36: =STUNTING!F37 -> 63 | G36: =H36+I36+J36+K36+L36+M36+N36 -> 63 | H36: 0 | I36: 4 | J36: 53 | K36: 4 | L36: 0 | M36: 0 | N36: 2 | O36: =H36+I36 -> 4 | P36: =O36/G36*100 -> 6.3492063
D37: 7 | E37: DOLULOLONG | F37: =STUNTING!F38 -> 49 | G37: =H37+I37+J37+K37+L37+M37+N37 -> 47 | H37: 0 | I37: 3 | J37: 44 | K37: 0 | L37: 0 | M37: 0 | N37: 0 | O37: =H37+I37 -> 3 | P37: =O37/G37*100 -> 6.3829787
D38: 8 | E38: HINGALAMAMENGI | F38: =STUNTING!F39 -> 89 | G38: =H38+I38+J38+K38+L38+M38+N38 -> 88 | H38: 0 | I38: 6 | J38: 79 | K38: 3 | L38: 0 | M38: 0 | N38: 0 | O38: =H38+I38 -> 6 | P38: =O38/G38*100 -> 6.8181818
D39: 9 | E39: BALAURING | F39: =STUNTING!F40 -> 190 | G39: =H39+I39+J39+K39+L39+M39+N39 -> 122 | H39: 0 | I39: 7 | J39: 110 | K39: 5 | L39: 0 | M39: 0 | N39: 0 | O39: =H39+I39 -> 7 | P39: =O39/G39*100 -> 5.7377049
D40: 10 | E40: LEBEWALA | F40: =STUNTING!F41 -> 71 | G40: =H40+I40+J40+K40+L40+M40+N40 -> 70 | H40: 1 | I40: 5 | J40: 59 | K40: 3 | L40: 0 | M40: 0 | N40: 2 | O40: =H40+I40 -> 6 | P40: =O40/G40*100 -> 8.5714286
D41: 11 | E41: WAILOLONG | F41: =STUNTING!F42 -> 68 | G41: =H41+I41+J41+K41+L41+M41+N41 -> 65 | H41: 0 | I41: 6 | J41: 57 | K41: 2 | L41: 0 | M41: 0 | N41: 0 | O41: =H41+I41 -> 6 | P41: =O41/G41*100 -> 9.2307692
...
