Workbook

Sheet STUNTING KEC
A1: DATA BALITA STUNTING HASIL e-PPGBM
A2: KABUPATEN LEMBATA
A3: PROVINSI NUSA TENGGARA TIMUR
A4: =STUNTING!A4 -> PERIODE SEPTEMBER 2025
A6: NO | B6: KECAMATAN | C6: PUSKESMAS | D6: DESA/KELURAHAN | F6: SASARAN | G6: TOTAL BALITA DIUKUR | H6: STATUS GIZI (TB/U) | M6: TOTAL BALITA STUNTING | N6: % BALITA STUNTING
H7: Sangat Pendek | I7: Pendek | J7: Normal | K7: Tinggi | L7: Outlier
A8: 1 | B8: 2 | C8: 3 | D8: 4 | F8: 5 | G8: 6 | H8: 7 | I8: 8 | J8: 9 | K8: 10 | L8: 11 | M8: 12=(7+8) | N8: 13=(12/6)
C9: JUMLAH PUSKESMAS WAIRIANG | F9: =STUNTING!F19 -> 710 | G9: =STUNTING!G19 -> 691 | H9: =STUNTING!H19 -> 3 | I9: =STUNTING!I19 -> 17 | J9: =STUNTING!J19 -> 671 | K9: =STUNTING!K19 -> 0 | L9: =STUNTING!L19 -> 0 | M9: =H9+I9 -> 20 | N9: =M9/G9*100 -> 2.894356
C10: JUMLAH PUSKESMAS BEAN | F10: =STUNTING!F30 -> 564 | G10: =STUNTING!G30 -> 564 | H10: =STUNTING!H30 -> 6 | I10: =STUNTING!I30 -> 22 | J10: =STUNTING!J30 -> 536 | K10: =STUNTING!K30 -> 0 | L10: =STUNTING!L30 -> 0 | M10: =H10+I10 -> 28 | N10: =M10/G10*100 -> 4.964539
A11: TOTAL KECAMATAN BUYASURI | F11: =F9+F10 -> 1274 | G11: =G9+G10 -> 1255 | H11: =H9+H10 -> 9 | I11: =I9+I10 -> 39 | J11: =J9+J10 -> 1207 | K11: =K9+K10 -> 0 | L11: =L9+L10 -> 0 | M11: =M9+M10 -> 48 | N11: =M11/G11*100 -> 3.8247012
C12: JUMLAH PUSKESMAS BALAURING | E12: BALAURING | F12: =STUNTING!F44 -> 759 | G12: =STUNTING!G44 -> 680 | H12: =STUNTING!H44 -> 21 | I12: =STUNTING!I44 -> 86 | J12: =STUNTING!J44 -> 568 | K12: =STUNTING!K44 -> 0 | L12: =STUNTING!L44 -> 5 | M12: =H12+I12 -> 107 | N12: =M12/G12*100 -> 15.735294
C13: JUMLAH PUSKESMAS AUTONAPOQ | F13: =STUNTING!F55 -> 531 | G13: =STUNTING!G55 -> 531 | H13: =STUNTING!H55 -> 8 | I13: =STUNTING!I55 -> 20 | J13: =STUNTING!J55 -> 503 | K13: =STUNTING!K55 -> 0 | L13: =STUNTING!L55 -> 0 | M13: =H13+I13 -> 28 | N13: =M13/G13*100 -> 5.2730697
A14: TOTAL KECAMATAN OMESURI | F14: =F12+F13 -> 1290 | G14: =G12+G13 -> 1211 | H14: =H12+H13 -> 29 | I14: =I12+I13 -> 106 | J14: =J12+J13 -> 1071 | K14: =K12+K13 -> 0 | L14: =L12+L13 -> 5 | M14: =M12+M13 -> 135 | N14: =M14/G14*100 -> 11.147812 | Q14: =H14+I14 -> 135
C15: JUMLAH PUSKEMAS LEWOLEBA | F15: =STUNTING!F64 -> 1826 | G15: =STUNTING!G64 -> 1696 | H15: =STUNTING!H64 -> 37 | I15: =STUNTING!I64 -> 271 | J15: =STUNTING!J64 -> 1384 | K15: =STUNTING!K64 -> 0 | L15: =STUNTING!L64 -> 4 | M15: =STUNTING!M64 -> 308 | N15: =M15/G15*100 -> 18.160377
C16: JUMLAH PUSKESMAS PADA | F16: =STUNTING!F76 -> 469 | G16: =STUNTING!G76 -> 405 | H16: =STUNTING!H76 -> 9 | I16: =STUNTING!I76 -> 39 | J16: =STUNTING!J76 -> 356 | K16: =STUNTING!K76 -> 0 | L16: =STUNTING!L76 -> 1 | M16: =STUNTING!M76 -> 48 | N16: =M16/G16*100 -> 11.851852
A17: TOTAL KECAMATAN NUBATUKAN | F17: =F15+F16 -> 2295 | G17: =G15+G16 -> 2101 | H17: =H15+H16 -> 46 | I17: =I15+I16 -> 310 | J17: =J15+J16 -> 1740 | K17: =K15+K16 -> 0 | L17: =L15+L16 -> 5 | M17: =M15+M16 -> 356 | N17: =M17/G17*100 -> 16.944312
A18: TOTAL KECAMATAN LEBATUKAN/PUSK HADAKEWA | F18: =STUNTING!F95 -> 597 | G18: =STUNTING!G95 -> 597 | H18: =STUNTING!H95 -> 4 | I18: =STUNTING!I95 -> 38 | J18: =STUNTING!J95 -> 555 | K18: =STUNTING!K95 -> 0 | L18: =STUNTING!L95 -> 0 | M18: =STUNTING!M95 -> 42 | N18: =M18/G18*100 -> 7.0351759
A19: TOTAL KECAMATAN ILE APE TIMUR/PUSK. LAMAAU | F19: =STUNTING!F105 -> 290 | G19: =STUNTING!G105 -> 290 | H19: =STUNTING!H105 -> 5 | I19: =STUNTING!I105 -> 16 | J19: =STUNTING!J105 -> 262 | K19: =STUNTING!K105 -> 0 | L19: =STUNTING!L105 -> 7 | M19: =STUNTING!M105 -> 21 | N19: =M19/G19*100 -> 7.2413793
A20: TOTAL KECAMATAN ATADEI/PUSK WAIKNUIT | F20: =STUNTING!F121 -> 420 | G20: =STUNTING!G121 -> 419 | H20: =STUNTING!H121 -> 4 | I20: =STUNTING!I121 -> 21 | J20: =STUNTING!J121 -> 392 | K20: =STUNTING!K121 -> 0 | L20: =STUNTING!L121 -> 2 | M20: =STUNTING!M121 -> 25 | N20: =M20/G20*100 -> 5.9665871
A21: TOTAL KECAMATAN WULANDON/PUSK WULANDONI | F21: =STUNTING!F137 -> 469 | G21: =STUNTING!G137 -> 450 | H21: =STUNTING!H137 -> 13 | I21: =STUNTING!I137 -> 85 | J21: =STUNTING!J137 -> 350 | K21: =STUNTING!K137 -> 0 | L21: =STUNTING!L137 -> 2 | M21: =STUNTING!M137 -> 98 | N21: =M21/G21*100 -> 21.777778
A22: TOTAL KECAMATAN NAGAWUTUN/PUSK. LOANG | F22: =STUNTING!F156 -> 611 | G22: =STUNTING!G156 -> 606 | H22: =STUNTING!H156 -> 2 | I22: =STUNTING!I156 -> 17 | J22: =STUNTING!J156 -> 585 | K22: =STUNTING!K156 -> 1 | L22: =STUNTING!L156 -> 1 | M22: =STUNTING!M156 -> 19 | N22: =M22/G22*100 -> 3.1353135
A23: TOTAL KECAMATAN ILE APE/PUSK. WAIPUKANG | F23: =STUNTING!F174 -> 662 | G23: =STUNTING!G174 -> 617 | H23: =STUNTING!H174 -> 9 | I23: =STUNTING!I174 -> 70 | J23: =STUNTING!J174 -> 536 | K23: =STUNTING!K174 -> 0 | L23: =STUNTING!L174 -> 2 | M23: =STUNTING!M174 -> 79 | N23: =M23/G23*100 -> 12.80389
A24: TOTAL KABUPATEN | F24: =F23+F22+F21+F20+F19+F18+F16+F15+F13+F12+F10+F9 -> 7908 | G24: =G23+G22+G21+G20+G19+G18+G16+G15+G13+G12+G10+G9 -> 7546 | H24: =H23+H22+H21+H20+H19+H18+H16+H15+H13+H12+H10+H9 -> 121 | I24: =I23+I22+I21+I20+I19+I18+I16+I15+I13+I12+I10+I9 -> 702 | J24: =J23+J22+J21+J20+J19+J18+J16+J15+J13+J12+J10+J9 -> 6698 | K24: =K23+K22+K21+K20+K19+K18+K16+K15+K13+K12+K10+K9 -> 1 | L24: =L11+L14+L17+L18+L19+L20+L21+L22+L23 -> 24 | M24: =M23+M22+M21+M20+M19+M18+M16+M15+M13+M12+M10+M9 -> 823 | N24: =M24/G24*100 -> 10.90644
G26: =STUNTING!G177 -> Lewoleba,30 September 2025
G27: Dinas Kesehatan
G28: Kabupten Lembata
G32: =STUNTING!G183 -> dr.Goerillya A. Huar Noning
G33: =STUNTING!G184 -> Pembina Tk .I
G34: =STUNTING!G185 -> NIP.19741114 200604 1 008

Sheet STUNTING
A1: DATA BALITA STUNTING HASIL e-PPGBM
A2: KABUPATEN LEMBATA
A3: PROVINSI NUSA TENGGARA TIMUR
A4: PERIODE SEPTEMBER 2025
A6: NO | B6: KECAMATAN | C6: PUSKESMAS | D6: DESA/KELURAHAN | F6: SASARAN | G6: TOTAL BALITA DIUKUR | H6: STATUS GIZI (TB/U) | M6: TOTAL BALITA STUNTING | N6: % BALITA STUNTING
H7: Sangat Pendek | I7: Pendek | J7: Normal | K7: Tinggi | L7: Outlier
A8: 1 | B8: 2 | C8: 3 | D8: 4 | F8: 5 | G8: 6 | H8: 7 | I8: 8 | J8: 9 | K8: 10 | L8: 11 | M8: 12=(7+8) | N8: 12=(12/6)
A9: 1 | B9: BUYASURI | C9: WAIRIANG | D9: 1 | E9: TOBOTANI | F9: 66 | G9: =H9+I9+J9+K9+L9 -> 66 | H9: 0 | I9: 0 | J9: 66 | K9: 0 | L9: 0 | M9: =H9+I9 -> 0 | N9: =M9/G9*100 -> 0
D10: 2 | E10: KALIKUR WL | F10: 65 | G10: =H10+I10+J10+K10+L10 -> 64 | H10: 0 | I10: 1 | J10: 63 | K10: 0 | L10: 0 | M10: =H10+I10 -> 1 | N10: =M10/G10*100 -> 1.5625
D11: 3 | E11: KAOHUA | F11: 93 | G11: =H11+I11+J11+K11+L11 -> 92 | H11: 1 | I11: 3 | J11: 88 | K11: 0 | L11: 0 | M11: =H11+I11 -> 4 | N11: =M11/G11*100 -> 4.3478261
D12: 4 | E12: UMALEU | F12: 94 | G12: =H12+I12+J12+K12+L12 -> 94 | H12: 1 | I12: 4 | J12: 89 | K12: 0 | L12: 0 | M12: =H12+I12 -> 5 | N12: =M12/G12*100 -> 5.3191489
D13: 5 | E13: BURIWUTUNG | F13: 77 | G13: =H13+I13+J13+K13+L13 -> 71 | H13: 1 | I13: 0 | J13: 70 | K13: 0 | L13: 0 | M13: =H13+I13 -> 1 | N13: =M13/G13*100 -> 1.4084507
D14: 6 | E14: MAMPIR | F14: 79 | G14: =H14+I14+J14+K14+L14 -> 78 | H14: 0 | I14: 2 | J14: 76 | K14: 0 | L14: 0 | M14: =H14+I14 -> 2 | N14: =M14/G14*100 -> 2.5641026
D15: 7 | E15: LEUWOHUNG | F15: 65 | G15: =H15+I15+J15+K15+L15 -> 63 | H15: 0 | I15: 1 | J15: 62 | K15: 0 | L15: 0 | M15: =H15+I15 -> 1 | N15: =M15/G15*100 -> 1.5873016
D16: 8 | E16: BARENG | F16: 44 | G16: =H16+I16+J16+K16+L16 -> 44 | H16: 0 | I16: 2 | J16: 42 | K16: 0 | L16: 0 | M16: =H16+I16 -> 2 | N16: =M16/G16*100 -> 4.5454545
D17: 9 | E17: KALIKUR | F17: 79 | G17: =H17+I17+J17+K17+L17 -> 73 | H17: 0 | I17: 3 | J17: 70 | K17: 0 | L17: 0 | M17: =H17+I17 -> 3 | N17: =M17/G17*100 -> 4.109589
D18: 10 | E18: RUMANG | F18: 48 | G18: =H18+I18+J18+K18+L18 -> 46 | H18: 0 | I18: 1 | J18: 45 | K18: 0 | L18: 0 | M18: =H18+I18 -> 1 | N18: =M18/G18*100 -> 2.173913
C19: JUMLAH PUSKESMAS WAIRIANG | F19: =SUM(F9:F18) -> 710 | G19: =SUM(G9:G18) -> 691 | H19: =SUM(H9:H18) -> 3 | I19: =SUM(I9:I18) -> 17 | J19: =SUM(J9:J18) -> 671 | K19: =SUM(K9:K18) -> 0 | L19: =SUM(L9:L18) -> 0 | M19: =H19+I19 -> 20 | N19: =M19/G19*100 -> 2.894356
A20: 2 | C20: BEAN | D20: 1 | E20: PANAMA | F20: 92 | G20: =H20+I20+J20+K20+L20 -> 92 | H20: 2 | I20: 4 | J20: 86 | K20: 0 | L20: 0 | M20: =H20+I20 -> 6 | N20: =M20/G20*100 -> 6.5217391
D21: 2 | E21: BEAN | F21: 38 | G21: =H21+I21+J21+K21+L21 -> 38 | H21: 0 | I21: 2 | J21: 36 | K21: 0 | L21: 0 | M21: =H21+I21 -> 2 | N21: =M21/G21*100 -> 5.2631579
D22: 3 | E22: BENIHADING | F22: 28 | G22: =H22+I22+J22+K22+L22 -> 28 | H22: 0 | I22: 0 | J22: 28 | K22: 0 | L22: 0 | M22: =H22+I22 -> 0 | N22: =M22/G22*100 -> 0
D23: 4 | E23: BENIHADING II | F23: 95 | G23: =H23+I23+J23+K23+L23 -> 95 | H23: 1 | I23: 4 | J23: 90 | K23: 0 | L23: 0 | M23: =H23+I23 -> 5 | N23: =M23/G23*100 -> 5.2631579
D24: 5 | E24: ATULALENG | F24: 41 | G24: =H24+I24+J24+K24+L24 -> 41 | H24: 0 | I24: 2 | J24: 39 | K24: 0 | L24: 0 | M24: =H24+I24 -> 2 | N24: =M24/G24*100 -> 4.8780488
D25: 6 | E25: TUBUNG WALANG | F25: 24 | G25: =H25+I25+J25+K25+L25 -> 24 | H25: 0 | I25: 1 | J25: 23 | K25: 0 | L25: 0 | M25: =H25+I25 -> 1 | N25: =M25/G25*100 -> 4.1666667
D26: 7 | E26: ROHO | F26: 58 | G26: =H26+I26+J26+K26+L26 -> 58 | H26: 0 | I26: 2 | J26: 56 | K26: 0 | L26: 0 | M26: =H26+I26 -> 2 | N26: =M26/G26*100 -> 3.4482759
D27: 8 | E27: LOYOBOHOR | F27: 56 | G27: =H27+I27+J27+K27+L27 -> 56 | H27: 1 | I27: 4 | J27: 51 | K27: 0 | L27: 0 | M27: =H27+I27 -> 5 | N27: =M27/G27*100 -> 8.9285714
D28: 9 | E28: LEUBURI | F28: 89 | G28: =H28+I28+J28+K28+L28 -> 89 | H28: 1 | I28: 0 | J28: 88 | K28: 0 | L28: 0 | M28: =H28+I28 -> 1 | N28: =M28/G28*100 -> 1.1235955
D29: 10 | E29: ATU WALUPANG | F29: 43 | G29: =H29+I29+J29+K29+L29 -> 43 | H29: 1 | I29: 3 | J29: 39 | K29: 0 | L29: 0 | M29: =H29+I29 -> 4 | N29: =M29/G29*100 -> 9.3023256
C30: JUMLAH PUSKESMAS BEAN | F30: =F20+F21+F22+F23+F24+F25+F26+F27+F28+F29 -> 564 | G30: =SUM(G20:G29) -> 564 | H30: =SUM(H20:H29) -> 6 | I30: =SUM(I20:I29) -> 22 | J30: =SUM(J20:J29) -> 536 | K30: =SUM(K20:K29) -> 0 | L30: =SUM(L20:L29) -> 0 | M30: =H30+I30 -> 28 | N30: =M30/G30*100 -> 4.964539
A31: TOTAL KECAMATAN BUYASURI | F31: =F19+F30 -> 1274 | G31: =G19+G30 -> 1255 | H31: =H19+H30 -> 9 | I31: =I19+I30 -> 39 | J31: =J19+J30 -> 1207 | K31: =K19+K30 -> 0 | L31: =L19+L30 -> 0 | M31: =M19+M30 -> 48 | N31: =M31/G31*100 -> 3.8247012
A32: 3 | B32: OMESURI | C32: BALAURING | D32: 1 | E32: NORMAL | F32: 38 | G32: =H32+I32+J32+K32+L32 -> 38 | H32: 0 | I32: 4 | J32: 34 | K32: 0 | L32: 0 | M32: =H32+I32 -> 4 | N32: =M32/G32*100 -> 10.526316
D33: 2 | E33: LEUDANUNG | F33: 30 | G33: =H33+I33+J33+K33+L33 -> 30 | H33: 0 | I33: 7 | J33: 23 | K33: 0 | L33: 0 | M33: =H33+I33 -> 7 | N33: =M33/G33*100 -> 23.333333
D34: 3 | E34: LEUWAYANG | F34: 74 | G34: =H34+I34+J34+K34+L34 -> 74 | H34: 0 | I34: 2 | J34: 72 | K34: 0 | L34: 0 | M34: =H34+I34 -> 2 | N34: =M34/G34*100 -> 2.7027027
D35: 4 | E35: ROMA | F35: 26 | G35: =H35+I35+J35+K35+L35 -> 26 | H35: 1 | I35: 4 | J35: 21 | K35: 0 | L35: 0 | M35: =H35+I35 -> 5 | N35: =M35/G35*100 -> 19.230769
D36: 5 | E36: HOLEA II | F36: 35 | G36: =H36+I36+J36+K36+L36 -> 31 | H36: 0 | I36: 4 | J36: 26 | K36: 0 | L36: 1 | M36: =H36+I36 -> 4 | N36: =M36/G36*100 -> 12.903226
D37: 6 | E37: HOLEA | F37: 63 | G37: =H37+I37+J37+K37+L37 -> 63 | H37: 1 | I37: 8 | J37: 52 | K37: 0 | L37: 2 | M37: =H37+I37 -> 9 | N37: =M37/G37*100 -> 14.285714
D38: 7 | E38: DOLULOLONG | F38: 49 | G38: =H38+I38+J38+K38+L38 -> 47 | H38: 1 | I38: 6 | J38: 40 | K38: 0 | L38: 0 | M38: =H38+I38 -> 7 | N38: =M38/G38*100 -> 14.893617
D39: 8 | E39: HINGALAMAMENGI | F39: 89 | G39: =H39+I39+J39+K39+L39 -> 88 | H39: 7 | I39: 13 | J39: 68 | K39: 0 | L39: 0 | M39: =H39+I39 -> 20 | N39: =M39/G39*100 -> 22.727273
D40: 9 | E40: BALAURING | F40: 190 | G40: =H40+I40+J40+K40+L40 -> 122 | H40: 5 | I40: 14 | J40: 103 | K40: 0 | L40: 0 | M40: =H40+I40 -> 19 | N40: =M40/G40*100 -> 15.57377
D41: 10 | E41: LEBEWALA | F41: 71 | G41: =H41+I41+J41+K41+L41 -> 70 | H41: 4 | I41: 11 | J41: 53 | K41: 0 | L41: 2 | M41: =H41+I41 -> 15 | N41: =M41/G41*100 -> 21.428571
D42: 11 | E42: WAILOLONG | F42: 68 | G42: =H42+I42+J42+K42+L42 -> 65 | H42: 0 | I42: 9 | J42: 56 | K42: 0 | L42: 0 | M42: =H42+I42 -> 9 | N42: =M42/G42*100 -> 13.846154
D43: 12 | E43: NORMAL | F43: 26 | G43: =H43+I43+J43+K43+L43 -> 26 | H43: 2 | I43: 4 | J43: 20 | K43: 0 | L43: 0 | M43: =H43+I43 -> 6 | N43: =M43/G43*100 -> 23.076923
C44: JUMLAH PUSKESMAS AUTONAPOQ | F44: =SUM(F32:F43) -> 759 | G44: =SUM(G32:G43) -> 680 | H44: =SUM(H32:H43) -> 21 | I44: =SUM(I32:I43) -> 86 | J44: =SUM(J32:J43) -> 568 | K44: =SUM(K32:K43) -> 0 | L44: =SUM(L32:L43) -> 5 | M44: =H44+I44 -> 107 | N44: =M44/G44*100 -> 15.735294
A45: 4 | C45: ATUANAPOQ | D45: 1 | E45: NILANAPO | F45: 71 | G45: =H45+I45+J45+K45+L45 -> 71 | H45: 0 | I45: 3 | J45: 68 | K45: 0 | L45: 0 | M45: =H45+I45 -> 3 | N45: =M45/G45*100 -> 4.2253521
D46: 2 | E46: LEUBATANG | F46: 64 | G46: =H46+I46+J46+K46+L46 -> 64 | H46: 1 | I46: 2 | J46: 61 | K46: 0 | L46: 0 | M46: =H46+I46 -> 3 | N46: =M46/G46*100 -> 4.6875
D47: 3 | E47: WALANGSAWAH | F47: 65 | G47: =H47+I47+J47+K47+L47 -> 65 | H47: 2 | I47: 3 | J47: 60 | K47: 0 | L47: 0 | M47: =H47+I47 -> 5 | N47: =M47/G47*100 -> 7.6923077
D48: 4 | E48: PEUSAWAH | F48: 58 | G48: =H48+I48+J48+K48+L48 -> 58 | H48: 1 | I48: 2 | J48: 55 | K48: 0 | L48: 0 | M48: =H48+I48 -> 3 | N48: =M48/G48*100 -> 5.1724138
D49: 5 | E49: MAHAL | F49: 60 | G49: =H49+I49+J49+K49+L49 -> 60 | H49: 1 | I49: 2 | J49: 57 | K49: 0 | L49: 0 | M49: =H49+I49 -> 3 | N49: =M49/G49*100 -> 5
D50: 6 | E50: MAHAL II | F50: 33 | G50: =H50+I50+J50+K50+L50 -> 33 | H50: 0 | I50: 1 | J50: 32 | K50: 0 | L50: 0 | M50: =H50+I50 -> 1 | N50: =M50/G50*100 -> 3.030303
D51: 7 | E51: MELUWITING | F51: 46 | G51: =H51+I51+J51+K51+L51 -> 46 | H51: 3 | I51: 1 | J51: 42 | K51: 0 | L51: 0 | M51: =H51+I51 -> 4 | N51: =M51/G51*100 -> 8.6956522
D52: 8 | E52: ARAMENGI | F52: 48 | G52: =H52+I52+J52+K52+L52 -> 48 | H52: 0 | I52: 2 | J52: 46 | K52: 0 | L52: 0 | M52: =H52+I52 -> 2 | N52: =M52/G52*100 -> 4.1666667
D53: 9 | E53: WOWONG | F53: 35 | G53: =H53+I53+J53+K53+L53 -> 35 | H53: 0 | I53: 1 | J53: 34 | K53: 0 | L53: 0 | M53: =H53+I53 -> 1 | N53: =M53/G53*100 -> 2.8571429
D54: 10 | E54: MELIWITING II | F54: 51 | G54: =H54+I54+J54+K54+L54 -> 51 | H54: 0 | I54: 3 | J54: 48 | K54: 0 | L54: 0 | M54: =H54+I54 -> 3 | N54: =M54/G54*100 -> 5.8823529
C55: JUMLAH PUSKESMAS AUTONAPOQ | F55: =SUM(F45:F54) -> 531 | G55: =SUM(G45:G54) -> 531 | H55: =SUM(H45:H54) -> 8 | I55: =SUM(I45:I54) -> 20 | J55: =SUM(J45:J54) -> 503 | K55: =SUM(K45:K54) -> 0 | L55: =SUM(L45:L54) -> 0 | M55: =H55+I55 -> 28 | N55: =M55/G55*100 -> 5.2730697
A56: TOTAL KECAMATAN OMESURI | F56: =F44+F55 -> 1290 | G56: =G44+G55 -> 1211 | H56: =H44+H55 -> 29 | I56: =I44+I55 -> 106 | J56: =J44+J55 -> 1071 | K56: =K44+K55 -> 0 | M56: =M44+M55 -> 135 | N56: =M56/G56*100 -> 11.147812
A57: 5 | B57: NUBATUKAN | C57: LEWOLEBA | D57: 1 | E57: LEWOLEBA BARAT | F57: 241 | G57: =H57+I57+J57+K57+L57 -> 207 | H57: 9 | I57: 34 | J57: 164 | K57: 0 | L57: 0 | M57: =H57+I57 -> 43 | N57: =M57/G57*100 -> 20.772947
D58: 2 | E58: LEWOLEBA UTARA | F58: 236 | G58: =H58+I58+J58+K58+L58 -> 230 | H58: 0 | I58: 38 | J58: 191 | K58: 0 | L58: 1 | M58: =H58+I58 -> 38 | N58: =M58/G58*100 -> 16.521739
D59: 3 | E59: LEWOLEBA | F59: 252 | G59: =H59+I59+J59+K59+L59 -> 235 | H59: 8 | I59: 35 | J59: 192 | K59: 0 | L59: 0 | M59: =H59+I59 -> 43 | N59: =M59/G59*100 -> 18.297872
D60: 4 | E60: LEWOLEBA TENGAH | F60: 181 | G60: =H60+I60+J60+K60+L60 -> 168 | H60: 0 | I60: 29 | J60: 139 | K60: 0 | L60: 0 | M60: =H60+I60 -> 29 | N60: =M60/G60*100 -> 17.261905
D61: 5 | E61: LEWOLEBA TIMUR | F61: 310 | G61: =H61+I61+J61+K61+L61 -> 279 | H61: 10 | I61: 54 | J61: 213 | K61: 0 | L61: 2 | M61: =H61+I61 -> 64 | N61: =M61/G61*100 -> 22.939068
D62: 6 | E62: LEWOLEBA SELATAN | F62: 206 | G62: =H62+I62+J62+K62+L62 -> 206 | H62: 4 | I62: 30 | J62: 171 | K62: 0 | L62: 1 | M62: =H62+I62 -> 34 | N62: =M62/G62*100 -> 16.504854
D63: 7 | E63: SELANDORO | F63: 400 | G63: =H63+I63+J63+K63+L63 -> 371 | H63: 6 | I63: 51 | J63: 314 | K63: 0 | L63: 0 | M63: =H63+I63 -> 57 | N63: =M63/G63*100 -> 15.363881
C64: JUMLAH PUSKEMAS LEWOLEBA | F64: =SUM(F57:F63) -> 1826 | G64: =SUM(G57:G63) -> 1696 | H64: =SUM(H57:H63) -> 37 | I64: =SUM(I57:I63) -> 271 | J64: =SUM(J57:J63) -> 1384 | K64: =SUM(K57:K63) -> 0 | L64: =SUM(L57:L63) -> 4 | M64: =SUM(M57:M63) -> 308 | N64: =M64/G64*100 -> 18.160377
A65: 6 | C65: PADA | D65: 1 | E65: BELOBATANG | F65: 32 | G65: =H65+I65+J65+K65+L65 -> 30 | H65: 0 | I65: 5 | J65: 24 | K65: 0 | L65: 1 | M65: =H65+I65 -> 5 | N65: =M65/G65*100 -> 16.666667 | O65: 31
D66: 2 | E66: UDAK MELOMATA | F66: 21 | G66: =H66+I66+J66+K66+L66 -> 19 | H66: 0 | I66: 1 | J66: 18 | K66: 0 | L66: 0 | M66: =H66+I66 -> 1 | N66: =M66/G66*100 -> 5.2631579 | O66: 19
D67: 3 | E67: BAOLANGU | F67: 42 | G67: =H67+I67+J67+K67+L67 -> 38 | H67: 0 | I67: 2 | J67: 36 | K67: 0 | L67: 0 | M67: =H67+I67 -> 2 | N67: =M67/G67*100 -> 5.2631579 | O67: 38
D68: 4 | E68: NUBAMADO | F68: 27 | G68: =H68+I68+J68+K68+L68 -> 24 | H68: 0 | I68: 4 | J68: 20 | K68: 0 | L68: 0 | M68: =H68+I68 -> 4 | N68: =M68/G68*100 -> 16.666667 | O68: 24
D69: 5 | E69: PAOBOKOL | F69: 35 | G69: =H69+I69+J69+K69+L69 -> 31 | H69: 0 | I69: 1 | J69: 30 | K69: 0 | L69: 0 | M69: =H69+I69 -> 1 | N69: =M69/G69*100 -> 3.2258065 | O69: 31
D70: 6 | E70: WATOKOBU | F70: 58 | G70: =H70+I70+J70+K70+L70 -> 47 | H70: 2 | I70: 4 | J70: 41 | K70: 0 | L70: 0 | M70: =H70+I70 -> 6 | N70: =M70/G70*100 -> 12.765957 | O70: 47
D71: 7 | E71: WAIJARANG | F71: 56 | G71: =H71+I71+J71+K71+L71 -> 49 | H71: 3 | I71: 7 | J71: 39 | K71: 0 | L71: 0 | M71: =H71+I71 -> 10 | N71: =M71/G71*100 -> 20.408163 | O71: 48
D72: 8 | E72: LITEULUMADO | F72: 25 | G72: =H72+I72+J72+K72+L72 -> 24 | H72: 2 | I72: 3 | J72: 19 | K72: 0 | L72: 0 | M72: =H72+I72 -> 5 | N72: =M72/G72*100 -> 20.833333 | O72: 24
D73: 9 | E73: PADA | F73: 115 | G73: =H73+I73+J73+K73+L73 -> 88 | H73: 1 | I73: 8 | J73: 79 | K73: 0 | L73: 0 | M73: =H73+I73 -> 9 | N73: =M73/G73*100 -> 10.227273 | O73: 88
D74: 10 | E74: BAKALEREK | F74: 26 | G74: =H74+I74+J74+K74+L74 -> 26 | H74: 0 | I74: 1 | J74: 25 | K74: 0 | L74: 0 | M74: =H74+I74 -> 1 | N74: =M74/G74*100 -> 3.8461538 | O74: 26
D75: 11 | E75: BOUR | F75: 32 | G75: =H75+I75+J75+K75+L75 -> 29 | H75: 1 | I75: 3 | J75: 25 | K75: 0 | L75: 0 | M75: =H75+I75 -> 4 | N75: =M75/G75*100 -> 13.793103 | O75: 29
C76: JUMLAH PUSKESMAS | F76: =SUM(F65:F75) -> 469 | G76: =SUM(G65:G75) -> 405 | H76: =SUM(H65:H75) -> 9 | I76: =SUM(I65:I75) -> 39 | J76: =SUM(J65:J75) -> 356 | K76: =SUM(K65:K75) -> 0 | L76: =SUM(L65:L75) -> 1 | M76: =SUM(M65:M75) -> 48 | N76: =M76/G76*100 -> 11.851852 | O76: =SUM(O65:O75) -> 405
A77: TOTAL KECAMATAN NUBATUKAN | F77: =F64+F76 -> 2295 | G77: =G64+G76 -> 2101 | H77: =H64+H76 -> 46 | I77: =I64+I76 -> 310 | J77: =J64+J76 -> 1740 | K77: =K64+K76 -> 0 | M77: =M64+M76 -> 356 | N77: =M77/G77*100 -> 16.944312
A78: 7 | B78: LEBATUKAN | C78: HADAKEWA | D78: 1 | E78: LAMATUKA | F78: 35 | G78: =H78+I78+J78+K78+L78 -> 35 | H78: 1 | I78: 0 | J78: 34 | K78: 0 | L78: 0 | M78: =H78+I78 -> 1 | N78: =M78/G78*100 -> 2.8571429
D79: 2 | E79: BAOPANA | F79: 41 | G79: =H79+I79+J79+K79+L79 -> 41 | H79: 0 | I79: 5 | J79: 36 | K79: 0 | L79: 0 | M79: =H79+I79 -> 5 | N79: =M79/G79*100 -> 12.195122
D80: 3 | E80: MERDEKA | F80: 48 | G80: =H80+I80+J80+K80+L80 -> 48 | H80: 0 | I80: 2 | J80: 46 | K80: 0 | L80: 0 | M80: =H80+I80 -> 2 | N80: =M80/G80*100 -> 4.1666667
D81: 4 | E81: HADAKEWA | F81: 55 | G81: =H81+I81+J81+K81+L81 -> 55 | H81: 0 | I81: 2 | J81: 53 | K81: 0 | L81: 0 | M81: =H81+I81 -> 2 | N81: =M81/G81*100 -> 3.6363636
D82: 5 | E82: LERAHINGA | F82: 30 | G82: =H82+I82+J82+K82+L82 -> 30 | H82: 1 | I82: 2 | J82: 27 | K82: 0 | L82: 0 | M82: =H82+I82 -> 3 | N82: =M82/G82*100 -> 10
D83: 6 | E83: WAIENGA | F83: 44 | G83: =H83+I83+J83+K83+L83 -> 44 | H83: 0 | I83: 3 | J83: 41 | K83: 0 | L83: 0 | M83: =H83+I83 -> 3 | N83: =M83/G83*100 -> 6.8181818
D84: 7 | E84: TAPOBARAN | F84: 38 | G84: =H84+I84+J84+K84+L84 -> 38 | H84: 0 | I84: 7 | J84: 31 | K84: 0 | L84: 0 | M84: =H84+I84 -> 7 | N84: =M84/G84*100 -> 18.421053
D85: 8 | E85: DIKESARE | F85: 24 | G85: =H85+I85+J85+K85+L85 -> 24 | H85: 0 | I85: 1 | J85: 23 | K85: 0 | L85: 0 | M85: =H85+I85 -> 1 | N85: =M85/G85*100 -> 4.1666667
D86: 9 | E86: LAMADALE | F86: 23 | G86: =H86+I86+J86+K86+L86 -> 23 | H86: 1 | I86: 0 | J86: 22 | K86: 0 | L86: 0 | M86: =H86+I86 -> 1 | N86: =M86/G86*100 -> 4.3478261
D87: 10 | E87: LEWOELENG | F87: 45 | G87: =H87+I87+J87+K87+L87 -> 45 | H87: 0 | I87: 2 | J87: 43 | K87: 0 | L87: 0 | M87: =H87+I87 -> 2 | N87: =M87/G87*100 -> 4.4444444
D88: 11 | E88: LODOTODOKOWA | F88: 52 | G88: =H88+I88+J88+K88+L88 -> 52 | H88: 0 | I88: 3 | J88: 49 | K88: 0 | L88: 0 | M88: =H88+I88 -> 3 | N88: =M88/G88*100 -> 5.7692308
D89: 12 | E89: SERANGGORANG | F89: 25 | G89: =H89+I89+J89+K89+L89 -> 25 | H89: 0 | I89: 1 | J89: 24 | K89: 0 | L89: 0 | M89: =H89+I89 -> 1 | N89: =M89/G89*100 -> 4
D90: 13 | E90: BALUREBONG | F90: 26 | G90: =H90+I90+J90+K90+L90 -> 26 | H90: 0 | I90: 2 | J90: 24 | K90: 0 | L90: 0 | M90: =H90+I90 -> 2 | N90: =M90/G90*100 -> 7.6923077
... D94: 17 | E94: ATAKOWA | F94: 21 | G94: =H94+I94+J94+K94+L94 -> 21 | H94: 1 | I94: 2 | J94: 18 | K94: 0 | L94: 0 | M94: =H94+I94 -> 3 | N94: =M94/G94*100 -> 14.285714
A95: TOTAL KECAMATAN | F95: =SUM(F78:F94) -> 597 | G95: =SUM(G78:G94) -> 597 | H95: =SUM(H78:H94) -> 4 | I95: =SUM(I78:I94) -> 38 | J95: =SUM(J78:J94) -> 555 | K95: =SUM(K78:K94) -> 0 | L95: =SUM(L78:L94) -> 0 | M95: =SUM(M78:M94) -> 42 | N95: =M95/G95*100 -> 7.0351759
A96: 8 | B96: ILE APE TIMUR | C96: LAMAAU | D96: 1 | E96: TODANARA | F96: 46 | G96: =H96+I96+J96+K96+L96 -> 46 | H96: 2 | I96: 3 | J96: 41 | K96: 0 | L96: 0 | M96: =H96+I96 -> 5 | N96: =M96/G96*100 -> 10.869565
D97: 2 | E97: JONTONA | F97: 62 | G97: =H97+I97+J97+K97+L97 -> 62 | H97: 2 | I97: 5 | J97: 54 | K97: 0 | L97: 1 | M97: =H97+I97 -> 7 | N97: =M97/G97*100 -> 11.290323
D98: 3 | E98: LAMAWOLO | F98: 26 | G98: =H98+I98+J98+K98+L98 -> 26 | H98: 0 | I98: 2 | J98: 23 | K98: 0 | L98: 1 | M98: =H98+I98 -> 2 | N98: =M98/G98*100 -> 7.6923077
D99: 4 | E99: LAMATOKAN | F99: 51 | G99: =H99+I99+J99+K99+L99 -> 51 | H99: 1 | I99: 3 | J99: 45 | K99: 0 | L99: 2 | M99: =H99+I99 -> 4 | N99: =M99/G99*100 -> 7.8431373
D100: 5 | E100: LAMAAU | F100: 24 | G100: =H100+I100+J100+K100+L100 -> 24 | H100: 0 | I100: 2 | J100: 22 | K100: 0 | L100: 0 | M100: =H100+I100 -> 2 | N100: =M100/G100*100 -> 8.3333333
D101: 6 | E101: AULESA | F101: 30 | G101: =H101+I101+J101+K101+L101 -> 30 | H101: 0 | I101: 1 | J101: 28 | K101: 0 | L101: 1 | M101: =H101+I101 -> 1 | N101: =M101/G101*100 -> 3.3333333
D102: 7 | E102: WAIMATAN | F102: 18 | G102: =H102+I102+J102+K102+L102 -> 18 | H102: 0 | I102: 0 | J102: 18 | K102: 0 | L102: 0 | M102: =H102+I102 -> 0 | N102: =M102/G102*100 -> 0
D103: 8 | E103: LAMAGUTE | F103: 16 | G103: =H103+I103+J103+K103+L103 -> 16 | H103: 0 | I103: 0 | J103: 15 | K103: 0 | L103: 1 | M103: =H103+I103 -> 0 | N103: =M103/G103*100 -> 0
D104: 9 | E104: BAO LALI DULI | F104: 17 | G104: =H104+I104+J104+K104+L104 -> 17 | H104: 0 | I104: 0 | J104: 16 | K104: 0 | L104: 1 | M104: =H104+I104 -> 0 | N104: =M104/G104*100 -> 0
...

Sheet UNDERWEIGHT KEC
A1: DATA BALITA UNDERWEIGHT HASIL e-PPGBM
A2: KABUPATEN LEMBATA
A3: PROVINSI NUSA TENGGARA TIMUR
A4: =STUNTING!A4 -> PERIODE SEPTEMBER 2025
A6: NO | B6: KECAMATAN | C6: PUSKESMAS | D6: DESA/KELURAHAN | F6: SASARAN | G6: TOTAL BALITA DITIMBANG | H6: STATUS GIZI (BB/U) | M6: TOTAL BALITA UNDERWEIGHT | N6: % BALITA UNDERWEIGHT
H7: Sangat Kurang | I7: Kurang | J7: BB Normal | K7: Resiko Lebih | L7: Outlier
A8: 1 | B8: 2 | C8: 3 | D8: 4 | F8: 5 | G8: 6 | H8: 7 | I8: 8 | J8: 9 | K8: 10 | L8: 11 | M8: 12=(7+8) | N8: 13=(12/6)
A9: 1 | C9: JUMLAH PUSKESMAS WAIRIANG | F9: =UNDERWEIGHT!F19 -> 710 | G9: =UNDERWEIGHT!G19 -> 691 | H9: =UNDERWEIGHT!H19 -> 10 | I9: =UNDERWEIGHT!I19 -> 37 | J9: =UNDERWEIGHT!J19 -> 641 | K9: =UNDERWEIGHT!K19 -> 3 | L9: =UNDERWEIGHT!L19 -> 0 | M9: =UNDERWEIGHT!M19 -> 47 | N9: =M9/G9*100 -> 6.8017366
A10: 2 | C10: JUMLAH PUSKESMAS BEAN | F10: =UNDERWEIGHT!F30 -> 564 | G10: =UNDERWEIGHT!G30 -> 564 | H10: =UNDERWEIGHT!H30 -> 2 | I10: =UNDERWEIGHT!I30 -> 90 | J10: =UNDERWEIGHT!J30 -> 466 | K10: =UNDERWEIGHT!K30 -> 6 | L10: =UNDERWEIGHT!L30 -> 0 | M10: =UNDERWEIGHT!M30 -> 92 | N10: =M10/G10*100 -> 16.312057
A11: TOTAL KECAMATAN BUYASURI | F11: =F9+F10 -> 1274 | G11: =G9+G10 -> 1255 | H11: =H9+H10 -> 12 | I11: =I9+I10 -> 127 | J11: =J9+J10 -> 1107 | K11: =K9+K10 -> 9 | L11: =L9+L10 -> 0 | M11: =M9+M10 -> 139 | N11: =M11/G11*100 -> 11.075697
A12: 3 | C12: JUMLAH PUSKESMAS BALAURING | F12: =UNDERWEIGHT!F44 -> 759 | G12: =UNDERWEIGHT!G44 -> 680 | H12: =UNDERWEIGHT!H44 -> 18 | I12: =UNDERWEIGHT!I44 -> 132 | J12: =UNDERWEIGHT!J44 -> 518 | K12: =UNDERWEIGHT!K44 -> 7 | L12: =UNDERWEIGHT!L44 -> 5 | M12: =UNDERWEIGHT!M44 -> 150 | N12: =M12/G12*100 -> 22.058824
A13: 4 | C13: JUMLAH PUSKESMAS AUTANAPOQ | F13: =UNDERWEIGHT!F55 -> 531 | G13: =UNDERWEIGHT!G55 -> 531 | H13: =UNDERWEIGHT!H55 -> 6 | I13: =UNDERWEIGHT!I55 -> 70 | J13: =UNDERWEIGHT!J55 -> 450 | K13: =UNDERWEIGHT!K55 -> 5 | L13: =UNDERWEIGHT!L55 -> 0 | M13: =UNDERWEIGHT!M55 -> 76 | N13: =M13/G13*100 -> 14.312618
A14: TOTAL KECAMATAN OMESURI | F14: =F12+F13 -> 1290 | G14: =G12+G13 -> 1211 | H14: =H12+H13 -> 24 | I14: =I12+I13 -> 202 | J14: =J12+J13 -> 968 | K14: =K12+K13 -> 12 | L14: =L12+L13 -> 5 | M14: =M12+M13 -> 226 | N14: =M14/G14*100 -> 18.662263
A15: 5 | C15: JUMLAH PUSKESMAS LEWOLEBA | F15: =UNDERWEIGHT!F64 -> 1826 | G15: =UNDERWEIGHT!G64 -> 1696 | H15: =UNDERWEIGHT!H64 -> 29 | I15: =UNDERWEIGHT!I64 -> 296 | J15: =UNDERWEIGHT!J64 -> 1353 | K15: =UNDERWEIGHT!K64 -> 15 | L15: =UNDERWEIGHT!L64 -> 3 | M15: =UNDERWEIGHT!M64 -> 325 | N15: =M15/G15*100 -> 19.162736
A16: 6 | C16: JUMLAH PUSKESMAS PADA | F16: =UNDERWEIGHT!F76 -> 469 | G16: =UNDERWEIGHT!G76 -> 405 | H16: =UNDERWEIGHT!H76 -> 9 | I16: =UNDERWEIGHT!I76 -> 63 | J16: =UNDERWEIGHT!J76 -> 325 | K16: =UNDERWEIGHT!K76 -> 7 | L16: =UNDERWEIGHT!L76 -> 1 | M16: =H16+I16 -> 72 | N16: =M16/G16*100 -> 17.777778
B17: TOTAL KECAMATAN NUBATUKAN | F17: =SUM(F15:F16) -> 2295 | G17: =SUM(G15:G16) -> 2101 | H17: =SUM(H15:H16) -> 38 | I17: =SUM(I15:I16) -> 359 | J17: =SUM(J15:J16) -> 1678 | K17: =SUM(K15:K16) -> 22 | L17: =L15+L16 -> 4 | M17: =H17+I17 -> 397 | N17: =M17/G17*100 -> 18.895764
A18: 7 | B18: TOTAL KECAMATAN LEBATUKAN/PUSK.HADAKEWA | F18: =UNDERWEIGHT!F103 -> 597 | G18: =UNDERWEIGHT!G103 -> 597 | H18: =UNDERWEIGHT!H103 -> 4 | I18: =UNDERWEIGHT!I103 -> 113 | J18: =UNDERWEIGHT!J103 -> 469 | K18: =UNDERWEIGHT!K103 -> 11 | L18: =UNDERWEIGHT!L103 -> 0 | M18: =H18+I18 -> 117 | N18: =M18/G18*100 -> 19.59799
A19: 8 | B19: TOTAL KECAMATAN ILE APE TIMUR/PUSK LAMAAU | F19: =UNDERWEIGHT!F113 -> 290 | G19: =UNDERWEIGHT!G113 -> 290 | H19: =UNDERWEIGHT!H113 -> 4 | I19: =UNDERWEIGHT!I113 -> 16 | J19: =UNDERWEIGHT!J113 -> 263 | K19: =UNDERWEIGHT!K113 -> 0 | L19: =UNDERWEIGHT!L113 -> 7 | M19: =H19+I19 -> 20 | N19: =M19/G19*100 -> 6.8965517
A20: 9 | B20: TOTAL KECAMATAN ATADEI/PUSK. WAIKNUIT | F20: =UNDERWEIGHT!F129 -> 420 | G20: =UNDERWEIGHT!G129 -> 419 | H20: =UNDERWEIGHT!H129 -> 7 | I20: =UNDERWEIGHT!I129 -> 65 | J20: =UNDERWEIGHT!J129 -> 342 | K20: =UNDERWEIGHT!K129 -> 3 | L20: =UNDERWEIGHT!L129 -> 2 | M20: =H20+I20 -> 72 | N20: =M20/G20*100 -> 17.183771
A21: 10 | B21: TOTAL KECAMATAN WULANDONI/PUSK.WULANDONI | F21: =UNDERWEIGHT!F145 -> 469 | G21: =UNDERWEIGHT!G145 -> 450 | H21: =UNDERWEIGHT!H145 -> 10 | I21: =UNDERWEIGHT!I145 -> 73 | J21: =UNDERWEIGHT!J145 -> 359 | K21: =UNDERWEIGHT!K145 -> 6 | L21: =UNDERWEIGHT!L145 -> 2 | M21: =H21+I21 -> 83 | N21: =M21/G21*100 -> 18.444444
A22: 11 | B22: TOTAL KECAMATAN NAGAWUTUN/PUSK.LOANG | F22: =UNDERWEIGHT!F175 -> 611 | G22: =UNDERWEIGHT!G175 -> 606 | H22: =UNDERWEIGHT!H175 -> 7 | I22: =UNDERWEIGHT!I175 -> 58 | J22: =UNDERWEIGHT!J175 -> 532 | K22: =UNDERWEIGHT!K175 -> 8 | L22: =UNDERWEIGHT!L175 -> 1 | M22: ='UNDERWEIGHT KEC'!H22+I22 -> 65 | N22: =M22/G22*100 -> 10.726073
A23: 12 | B23: TOTAL KECAMATAN ILE APE /PUSK.WAIPUKANG | F23: =UNDERWEIGHT!F193 -> 662 | G23: =UNDERWEIGHT!G193 -> 617 | H23: =UNDERWEIGHT!H193 -> 13 | I23: =UNDERWEIGHT!I193 -> 100 | J23: =UNDERWEIGHT!J193 -> 496 | K23: =UNDERWEIGHT!K193 -> 6 | L23: =UNDERWEIGHT!L193 -> 2 | M23: ='UNDERWEIGHT KEC'!H23+I23 -> 113 | N23: =M23/G23*100 -> 18.314425
A24: TOTAL KABUPATEN | F24: =F11+F14+F17+F18+F19+F20+F21+F22+F23 -> 7908 | G24: =G11+G14+G17+G18+G19+G20+G21+G22+G23 -> 7546 | H24: =H11+H14+H17+H18+H19+H20+H21+H22+H23 -> 119 | I24: =I11+I14+I17+I18+I19+I20+I21+I22+I23 -> 1113 | J24: =J11+J14+J17+J18+J19+J20+J21+J22+J23 -> 6214 | K24: =K11+K14+K17+K18+K19+K20+K21+K22+K23 -> 77 | L24: =L11+L14+L17+L18+L19+L20+L21+L22+L23 -> 23 | M24: =M11+M14+M17+M18+M19+M20+M21+M22+M23 -> 1232 | N24: =M24/G24*100 -> 16.326531
I26: =STUNTING!G177 -> Lewoleba,30 September 2025
I27: Plt.Kepala Dinas Kesehatan
I28: Kabupten Lembata
I32: =STUNTING!G183 -> dr.Goerillya A. Huar Noning
I33: =STUNTING!G184 -> Pembina Tk .I
I34: =STUNTING!G185 -> NIP.19741114 200604 1 008

Sheet UNDERWEIGHT
A1: DATA BALITA UNDERWEIGHT HASIL e-PPGBM
A2: KABUPATEN LEMBATA
A3: PROVINSI NUSA TENGGARA TIMUR
A4: =STUNTING!A4 -> PERIODE SEPTEMBER 2025
A6: NO | B6: KECAMATAN | C6: PUSKESMAS | D6: DESA/KELURAHAN | F6: SASARAN | G6: TOTAL BALITA DITIMBANG | H6: STATUS GIZI (BB/U) | M6: TOTAL BALITA UNDERWEIGHT | N6: % BALITA UNDERWEIGHT
H7: Sangat Kurang | I7: Kurang | J7: BB Normal | K7: Resiko Lebih | L7: Outlier
A8: 1 | B8: 2 | C8: 3 | D8: 4 | F8: 5 | G8: 6 | H8: 7 | I8: 8 | J8: 9 | K8: 10 | L8: 11 | M8: 12=(7+8) | N8: 13=(12/6)
A9: 1 | B9: BUYASURI | C9: WAIRIANG | D9: 1 | E9: TOBOTANI | F9: =STUNTING!F9 -> 66 | G9: =H9+I9+J9+K9+L9 -> 66 | H9: 0 | I9: 2 | J9: 64 | K9: 0 | L9: 0 | M9: =H9+I9 -> 2 | N9: =M9/G9*100 -> 3.030303
D10: 2 | E10: KALIKUR WL | F10: =STUNTING!F10 -> 65 | G10: =H10+I10+J10+K10+L10 -> 64 | H10: 0 | I10: 4 | J10: 60 | K10: 0 | L10: 0 | M10: =H10+I10 -> 4 | N10: =M10/G10*100 -> 6.25
D11: 3 | E11: KAOHUA | F11: =STUNTING!F11 -> 93 | G11: =H11+I11+J11+K11+L11 -> 92 | H11: 2 | I11: 8 | J11: 80 | K11: 2 | L11: 0 | M11: =H11+I11 -> 10 | N11: =M11/G11*100 -> 10.869565
D12: 4 | E12: UMALEU | F12: =STUNTING!F12 -> 94 | G12: =H12+I12+J12+K12+L12 -> 94 | H12: 1 | I12: 4 | J12: 89 | K12: 0 | L12: 0 | M12: =H12+I12 -> 5 | N12: =M12/G12*100 -> 5.3191489
D13: 5 | E13: BURIWUTUNG | F13: =STUNTING!F13 -> 77 | G13: =H13+I13+J13+K13+L13 -> 71 | H13: 1 | I13: 2 | J13: 67 | K13: 1 | L13: 0 | M13: =H13+I13 -> 3 | N13: =M13/G13*100 -> 4.2253521
D14: 6 | E14: MAMPIR | F14: =STUNTING!F14 -> 79 | G14: =H14+I14+J14+K14+L14 -> 78 | H14: 1 | I14: 5 | J14: 72 | K14: 0 | L14: 0 | M14: =H14+I14 -> 6 | N14: =M14/G14*100 -> 7.6923077
D15: 7 | E15: LEUWOHUNG | F15: =STUNTING!F15 -> 65 | G15: =H15+I15+J15+K15+L15 -> 63 | H15: 1 | I15: 1 | J15: 61 | K15: 0 | L15: 0 | M15: =H15+I15 -> 2 | N15: =M15/G15*100 -> 3.1746032
D16: 8 | E16: BARENG | F16: =STUNTING!F16 -> 44 | G16: =H16+I16+J16+K16+L16 -> 44 | H16: 1 | I16: 3 | J16: 40 | K16: 0 | L16: 0 | M16: =H16+I16 -> 4 | N16: =M16/G16*100 -> 9.0909091
D17: 9 | E17: KALIKUR | F17: =STUNTING!F17 -> 79 | G17: =H17+I17+J17+K17+L17 -> 73 | H17: 1 | I17: 3 | J17: 69 | K17: 0 | L17: 0 | M17: =H17+I17 -> 4 | N17: =M17/G17*100 -> 5.4794521
D18: 10 | E18: RUMANG | F18: =STUNTING!F18 -> 48 | G18: =H18+I18+J18+K18+L18 -> 46 | H18: 2 | I18: 5 | J18: 39 | K18: 0 | L18: 0 | M18: =H18+I18 -> 7 | N18: =M18/G18*100 -> 15.217391
C19: JUMLAH PUSKESMAS WAIRIANG | F19: =SUM(F9:F18) -> 710 | G19: =SUM(G9:G18) -> 691 | H19: =SUM(H9:H18) -> 10 | I19: =SUM(I9:I18) -> 37 | J19: =SUM(J9:J18) -> 641 | K19: =SUM(K9:K18) -> 3 | L19: =SUM(L9:L18) -> 0 | M19: =H19+I19 -> 47 | N19: =M19/G19*100 -> 6.8017366
A20: 2 | C20: BEAN | D20: 1 | E20: PANAMA | F20: =STUNTING!F20 -> 92 | G20: =H20+I20+J20+K20+L20 -> 92 | H20: 0 | I20: 7 | J20: 84 | K20: 1 | L20: 0 | M20: =H20+I20 -> 7 | N20: =M20/G20*100 -> 7.6086957
D21: 2 | E21: BEAN | F21: =STUNTING!F21 -> 38 | G21: =H21+I21+J21+K21+L21 -> 38 | H21: 0 | I21: 4 | J21: 34 | K21: 0 | L21: 0 | M21: =H21+I21 -> 4 | N21: =M21/G21*100 -> 10.526316
D22: 3 | E22: BENIHADING | F22: =STUNTING!F22 -> 28 | G22: =H22+I22+J22+K22+L22 -> 28 | H22: 0 | I22: 2 | J22: 24 | K22: 2 | L22: 0 | M22: =H22+I22 -> 2 | N22: =M22/G22*100 -> 7.1428571
D23: 4 | E23: BENIHADING II | F23: =STUNTING!F23 -> 95 | G23: =H23+I23+J23+K23+L23 -> 95 | H23: 0 | I23: 14 | J23: 80 | K23: 1 | L23: 0 | M23: =H23+I23 -> 14 | N23: =M23/G23*100 -> 14.736842
D24: 5 | E24: ATULALENG | F24: =STUNTING!F24 -> 41 | G24: =H24+I24+J24+K24+L24 -> 41 | H24: 1 | I24: 9 | J24: 31 | K24: 0 | L24: 0 | M24: =H24+I24 -> 10 | N24: =M24/G24*100 -> 24.390244
D25: 6 | E25: TUBUNG WALANG | F25: =STUNTING!F25 -> 24 | G25: =H25+I25+J25+K25+L25 -> 24 | H25: 0 | I25: 3 | J25: 19 | K25: 2 | L25: 0 | M25: =H25+I25 -> 3 | N25: =M25/G25*100 -> 12.5
D26: 7 | E26: ROHO | F26: =STUNTING!F26 -> 58 | G26: =H26+I26+J26+K26+L26 -> 58 | H26: 0 | I26: 13 | J26: 45 | K26: 0 | L26: 0 | M26: =H26+I26 -> 13 | N26: =M26/G26*100 -> 22.413793
D27: 8 | E27: LOYOBOHOR | F27: =STUNTING!F27 -> 56 | G27: =H27+I27+J27+K27+L27 -> 56 | H27: 1 | I27: 8 | J27: 47 | K27: 0 | L27: 0 | M27: =H27+I27 -> 9 | N27: =M27/G27*100 -> 16.071429
D28: 9 | E28: LEUBURI | F28: =STUNTING!F28 -> 89 | G28: =H28+I28+J28+K28+L28 -> 89 | H28: 0 | I28: 17 | J28: 72 | K28: 0 | L28: 0 | M28: =H28+I28 -> 17 | N28: =M28/G28*100 -> 19.101124
D29: 10 | E29: ATU WALUPANG | F29: =STUNTING!F29 -> 43 | G29: =H29+I29+J29+K29+L29 -> 43 | H29: 0 | I29: 13 | J29: 30 | K29: 0 | L29: 0 | M29: =H29+I29 -> 13 | N29: =M29/G29*100 -> 30.232558
C30: JUMLAH PUSKESMAS BEAN | F30: =SUM(F20:F29) -> 564 | G30: =SUM(G20:G29) -> 564 | H30: =SUM(H20:H29) -> 2 | I30: =SUM(I20:I29) -> 90 | J30: =SUM(J20:J29) -> 466 | K30: =SUM(K20:K29) -> 6 | L30: =SUM(L20:L29) -> 0 | M30: =H30+I30 -> 92 | N30: =M30/G30*100 -> 16.312057
A31: TOTAL KECAMATAN BUYASURI | F31: =F19+F30 -> 1274 | G31: =G19+G30 -> 1255 | H31: =H19+H30 -> 12 | I31: =I19+I30 -> 127 | J31: =J19+J30 -> 1107 | K31: =K19+K30 -> 9 | L31: =L19+L30 -> 0 | M31: =M19+M30 -> 139 | N31: =M31/G31*100 -> 11.075697
A32: 3 | B32: OMESURI | C32: BALAURING | D32: 1 | E32: NORMAL | F32: =STUNTING!F32 -> 38 | G32: =H32+I32+J32+K32+L32 -> 38 | H32: 0 | I32: 9 | J32: 29 | K32: 0 | L32: 0 | M32: =H32+I32 -> 9 | N32: =M32/G32*100 -> 23.684211
D33: 2 | E33: LEUDANUNG | F33: =STUNTING!F33 -> 30 | G33: =H33+I33+J33+K33+L33 -> 30 | H33: 1 | I33: 5 | J33: 24 | K33: 0 | L33: 0 | M33: =H33+I33 -> 6 | N33: =M33/G33*100 -> 20
D34: 3 | E34: LEUWAYANG | F34: =STUNTING!F34 -> 74 | G34: =H34+I34+J34+K34+L34 -> 74 | H34: 2 | I34: 12 | J34: 58 | K34: 2 | L34: 0 | M34: =H34+I34 -> 14 | N34: =M34/G34*100 -> 18.918919
D35: 4 | E35: ROMA | F35: =STUNTING!F35 -> 26 | G35: =H35+I35+J35+K35+L35 -> 26 | H35: 0 | I35: 5 | J35: 21 | K35: 0 | L35: 0 | M35: =H35+I35 -> 5 | N35: =M35/G35*100 -> 19.230769
D36: 5 | E36: HOELEA II | F36: =STUNTING!F36 -> 35 | G36: =H36+I36+J36+K36+L36 -> 31 | H36: 0 | I36: 4 | J36: 26 | K36: 0 | L36: 1 | M36: =H36+I36 -> 4 | N36: =M36/G36*100 -> 12.903226
D37: 6 | E37: HOELEA | F37: =STUNTING!F37 -> 63 | G37: =H37+I37+J37+K37+L37 -> 63 | H37: 2 | I37: 10 | J37: 48 | K37: 1 | L37: 2 | M37: =H37+I37 -> 12 | N37: =M37/G37*100 -> 19.047619
D38: 7 | E38: DOLULOLONG | F38: =STUNTING!F38 -> 49 | G38: =H38+I38+J38+K38+L38 -> 47 | H38: 2 | I38: 6 | J38: 39 | K38: 0 | L38: 0 | M38: =H38+I38 -> 8 | N38: =M38/G38*100 -> 17.021277
D39: 8 | E39: HINGALAMAMENGI | F39: =STUNTING!F39 -> 89 | G39: =H39+I39+J39+K39+L39 -> 88 | H39: 5 | I39: 19 | J39: 64 | K39: 0 | L39: 0 | M39: =H39+I39 -> 24 | N39: =M39/G39*100 -> 27.272727
D40: 9 | E40: BALAURING | F40: =STUNTING!F40 -> 190 | G40: =H40+I40+J40+K40+L40 -> 122 | H40: 1 | I40: 24 | J40: 95 | K40: 2 | L40: 0 | M40: =H40+I40 -> 25 | N40: =M40/G40*100 -> 20.491803
D41: 10 | E41: LEBEWALA | F41: =STUNTING!F41 -> 71 | G41: =H41+I41+J41+K41+L41 -> 70 | H41: 3 | I41: 12 | J41: 52 | K41: 1 | L41: 2 | M41: =H41+I41 -> 15 | N41: =M41/G41*100 -> 21.428571
D42: 11 | E42: WAILOLONG | F42: =STUNTING!F42 -> 68 | G42: =H42+I42+J42+K42+L42 -> 65 | H42: 1 | I42: 19 | J42: 44 | K42: 1 | L42: 0 | M42: =H42+I42 -> 20 | N42: =M42/G42*100 -> 30.769231
D43: 12 | E43: NORMAL I | F43: =STUNTING!F43 -> 26 | G43: =H43+I43+J43+K43+L43 -> 26 | H43: 1 | I43: 7 | J43: 18 | K43: 0 | L43: 0 | M43: =H43+I43 -> 8 | N43: =M43/G43*100 -> 30.769231
C44: JUMLAH PUSKESMAS | F44: =SUM(F32:F43) -> 759 | G44: =SUM(G32:G43) -> 680 | H44: =SUM(H32:H43) -> 18 | I44: =SUM(I32:I43) -> 132 | J44: =SUM(J32:J43) -> 518 | K44: =SUM(K32:K43) -> 7 | L44: =SUM(L32:L43) -> 5 | M44: =H44+I44 -> 150 | N44: =M44/G44*100 -> 22.058824
A45: 4 | C45: AUTONAPOQ | D45: 1 | E45: NILANAPO | F45: =STUNTING!F45 -> 71 | G45: =H45+I45+J45+K45+L45 -> 71 | H45: 2 | I45: 10 | J45: 57 | K45: 2 | L45: 0 | M45: =H45+I45 -> 12 | N45: =M45/G45*100 -> 16.901408
D46: 2 | E46: LEUBATANG | F46: =STUNTING!F46 -> 64 | G46: =H46+I46+J46+K46+L46 -> 64 | H46: 0 | I46: 11 | J46: 53 | K46: 0 | L46: 0 | M46: =H46+I46 -> 11 | N46: =M46/G46*100 -> 17.1875
D47: 3 | E47: WALANGSAWAH | F47: =STUNTING!F47 -> 65 | G47: =H47+I47+J47+K47+L47 -> 65 | H47: 0 | I47: 13 | J47: 51 | K47: 1 | L47: 0 | M47: =H47+I47 -> 13 | N47: =M47/G47*100 -> 20
D48: 4 | E48: PEUSAWAH | F48: =STUNTING!F48 -> 58 | G48: =H48+I48+J48+K48+L48 -> 58 | H48: 1 | I48: 5 | J48: 51 | K48: 1 | L48: 0 | M48: =H48+I48 -> 6 | N48: =M48/G48*100 -> 10.344828
D49: 5 | E49: MAHAL | F49: =STUNTING!F49 -> 60 | G49: =H49+I49+J49+K49+L49 -> 60 | H49: 1 | I49: 9 | J49: 50 | K49: 0 | L49: 0 | M49: =H49+I49 -> 10 | N49: =M49/G49*100 -> 16.666667
D50: 6 | E50: MAHAL II | F50: =STUNTING!F50 -> 33 | G50: =H50+I50+J50+K50+L50 -> 33 | H50: 1 | I50: 7 | J50: 25 | K50: 0 | L50: 0 | M50: =H50+I50 -> 8 | N50: =M50/G50*100 -> 24.242424
D51: 7 | E51: MELUWITING | F51: =STUNTING!F51 -> 46 | G51: =H51+I51+J51+K51+L51 -> 46 | H51: 1 | I51: 8 | J51: 37 | K51: 0 | L51: 0 | M51: =H51+I51 -> 9 | N51: =M51/G51*100 -> 19.565217
D52: 8 | E52: ARAMENGI | F52: =STUNTING!F52 -> 48 | G52: =H52+I52+J52+K52+L52 -> 48 | H52: 0 | I52: 4 | J52: 44 | K52: 0 | L52: 0 | M52: =H52+I52 -> 4 | N52: =M52/G52*100 -> 8.3333333
D53: 9 | E53: WOWONG | F53: =STUNTING!F53 -> 35 | G53: =H53+I53+J53+K53+L53 -> 35 | H53: 0 | I53: 0 | J53: 34 | K53: 1 | L53: 0 | M53: =H53+I53 -> 0 | N53: =M53/G53*100 -> 0
D54: 10 | E54: MELUWITING 1 | F54: =STUNTING!F54 -> 51 | G54: =H54+I54+J54+K54+L54 -> 51 | H54: 0 | I54: 3 | J54: 48 | K54: 0 | L54: 0 | M54: =H54+I54 -> 3 | N54: =M54/G54*100 -> 5.8823529
C55: JUMLAH PUSKESMAS | F55: =SUM(F45:F54) -> 531 | G55: =SUM(G45:G54) -> 531 | H55: =SUM(H45:H54) -> 6 | I55: =SUM(I45:I54) -> 70 | J55: =SUM(J45:J54) -> 450 | K55: =SUM(K45:K54) -> 5 | L55: =SUM(L45:L54) -> 0 | M55: =SUM(M45:M54) -> 76 | N55: =M55/G55*100 -> 14.312618
A56: TOTAL KECAMATAN OMESURI | F56: =F44+F55 -> 1290 | G56: =G44+G55 -> 1211 | H56: =H44+H55 -> 24 | I56: =I44+I55 -> 202 | J56: =J44+J55 -> 968 | K56: =K44+K55 -> 12 | L56: =L44+L55 -> 5 | M56: =M44+M55 -> 226 | N56: =M56/G56*100 -> 18.662263
A57: 5 | B57: NUBATUKAN | C57: LEWOLEBA | D57: 1 | E57: LEWOLEBA BARAT | F57: =STUNTING!F57 -> 241 | G57: =H57+I57+J57+K57+L57 -> 207 | H57: 4 | I57: 47 | J57: 153 | K57: 3 | L57: 0 | M57: =H57+I57 -> 51 | N57: =M57/G57*100 -> 24.637681
D58: 2 | E58: LEWOLEBA UTARA | F58: =STUNTING!F58 -> 236 | G58: =H58+I58+J58+K58+L58 -> 230 | H58: 5 | I58: 42 | J58: 181 | K58: 1 | L58: 1 | M58: =H58+I58 -> 47 | N58: =M58/G58*100 -> 20.434783
D59: 3 | E59: LEWOLEBA | F59: =STUNTING!F59 -> 252 | G59: =H59+I59+J59+K59+L59 -> 235 | H59: 6 | I59: 38 | J59: 190 | K59: 1 | L59: 0 | M59: =H59+I59 -> 44 | N59: =M59/G59*100 -> 18.723404
D60: 4 | E60: LEWOLEBA TENGAH | F60: =STUNTING!F60 -> 181 | G60: =H60+I60+J60+K60+L60 -> 168 | H60: 1 | I60: 20 | J60: 143 | K60: 4 | L60: 0 | M60: =H60+I60 -> 21 | N60: =M60/G60*100 -> 12.5
D61: 5 | E61: LEWOLEBA TIMUR | F61: =STUNTING!F61 -> 310 | G61: =H61+I61+J61+K61+L61 -> 279 | H61: 5 | I61: 55 | J61: 215 | K61: 3 | L61: 1 | M61: =H61+I61 -> 60 | N61: =M61/G61*100 -> 21.505376
D62: 6 | E62: LEWOLEBA SELATAN | F62: =STUNTING!F62 -> 206 | G62: =H62+I62+J62+K62+L62 -> 206 | H62: 3 | I62: 44 | J62: 157 | K62: 1 | L62: 1 | M62: =H62+I62 -> 47 | N62: =M62/G62*100 -> 22.815534
D63: 7 | E63: SELANDORO | F63: =STUNTING!F63 -> 400 | G63: =H63+I63+J63+K63+L63 -> 371 | H63: 5 | I63: 50 | J63: 314 | K63: 2 | L63: 0 | M63: =H63+I63 -> 55 | N63: =M63/G63*100 -> 14.824798
C64: JUMLAH PUSKESMAS LEWOLEBA | F64: =SUM(F57:F63) -> 1826 | G64: =SUM(G57:G63) -> 1696 | H64: =SUM(H57:H63) -> 29 | I64: =SUM(I57:I63) -> 296 | J64: =SUM(J57:J63) -> 1353 | K64: =SUM(K57:K63) -> 15 | L64: =SUM(L57:L63) -> 3 | M64: =SUM(M57:M63) -> 325 | N64: =M64/G64*100 -> 19.162736
A65: 6 | C65: PADA | D65: 1 | E65: BELOBATANG | F65: =STUNTING!F65 -> 32 | G65: =H65+I65+J65+K65+L65 -> 30 | H65: 0 | I65: 2 | J65: 27 | K65: 0 | L65: 1 | M65: =H65+I65 -> 2 | N65: =M65/G65*100 -> 6.6666667
D66: 2 | E66: UDAK MELOMATA | F66: =STUNTING!F66 -> 21 | G66: =H66+I66+J66+K66 -> 19 | H66: 0 | I66: 5 | J66: 14 | K66: 0 | L66: 0 | M66: =H66+I66 -> 5 | N66: =M66/G66*100 -> 26.315789
D67: 3 | E67: BAOLANGU | F67: =STUNTING!F67 -> 42 | G67: =H67+I67+J67+K67 -> 38 | H67: 0 | I67: 9 | J67: 29 | K67: 0 | L67: 0 | M67: =H67+I67 -> 9 | N67: =M67/G67*100 -> 23.684211
D68: 4 | E68: NUBAMADO | F68: =STUNTING!F68 -> 27 | G68: =H68+I68+J68+K68 -> 24 | H68: 1 | I68: 3 | J68: 20 | K68: 0 | L68: 0 | M68: =H68+I68 -> 4 | N68: =M68/G68*100 -> 16.666667
D69: 5 | E69: PAOBOKOL | F69: =STUNTING!F69 -> 35 | G69: =H69+I69+J69+K69 -> 31 | H69: 0 | I69: 5 | J69: 26 | K69: 0 | L69: 0 | M69: =H69+I69 -> 5 | N69: =M69/G69*100 -> 16.129032
D70: 6 | E70: WATOKOBU | F70: =STUNTING!F70 -> 58 | G70: =H70+I70+J70+K70 -> 47 | H70: 1 | I70: 8 | J70: 38 | K70: 0 | L70: 0 | M70: =H70+I70 -> 9 | N70: =M70/G70*100 -> 19.148936
D71: 7 | E71: WAIJARANG | F71: =STUNTING!F71 -> 56 | G71: =H71+I71+J71+K71 -> 49 | H71: 1 | I71: 7 | J71: 39 | K71: 2 | L71: 0 | M71: =H71+I71 -> 8 | N71: =M71/G71*100 -> 16.326531
D72: 8 | E72: LITEULUMADO | F72: =STUNTING!F72 -> 25 | G72: =H72+I72+J72+K72 -> 24 | H72: 1 | I72: 3 | J72: 19 | K72: 1 | L72: 0 | M72: =H72+I72 -> 4 | N72: =M72/G72*100 -> 16.666667
D73: 9 | E73: PADA | F73: =STUNTING!F73 -> 115 | G73: =H73+I73+J73+K73 -> 88 | H73: 4 | I73: 14 | J73: 67 | K73: 3 | L73: 0 | M73: =H73+I73 -> 18 | N73: =M73/G73*100 -> 20.454545
D74: 10 | E74: BAKALEREK | F74: =STUNTING!F74 -> 26 | G74: =H74+I74+J74+K74 -> 26 | H74: 0 | I74: 1 | J74: 24 | K74: 1 | L74: 0 | M74: =H74+I74 -> 1 | N74: =M74/G74*100 -> 3.8461538
D75: 11 | E75: BOUR | F75: =STUNTING!F75 -> 32 | G75: =H75+I75+J75+K75 -> 29 | H75: 1 | I75: 6 | J75: 22 | K75: 0 | L75: 0 | M75: =H75+I75 -> 7 | N75: =M75/G75*100 -> 24.137931
C76: JUMLAH PUSKESMAS PADA | F76: =SUM(F65:F75) -> 469 | G76: =SUM(G65:G75) -> 405 | H76: =SUM(H65:H75) -> 9 | I76: =SUM(I65:I75) -> 63 | J76: =SUM(J65:J75) -> 325 | K76: =SUM(K65:K75) -> 7 | L76: =SUM(L65:L75) -> 1 | M76: =SUM(M65:M75) -> 72 | N76: =M76/G76*100 -> 17.777778
A77: TOTAL KECAMATAN NUBATUKAN | F77: =F64+F76 -> 2295 | G77: =G64+G76 -> 2101 | H77: =H64+H76 -> 38 | I77: =I64+I76 -> 359 | J77: =J64+J76 -> 1678 | K77: =K64+K76 -> 22 | L77: =L64+L76 -> 4 | M77: =M64+M76 -> 397 | N77: =M77/G77*100 -> 18.895764
A79: KABUPATEN LEMBATA
A80: PROVINSI NUSA TENGGARA TIMUR
A81: =A4 -> PERIODE SEPTEMBER 2025
A83: NO | B83: KECAMATAN | C83: PUSKESMAS | D83: DESA/KELURAHAN | F83: SASARAN | G83: TOTAL BALITA DITIMBANG | H83: STATUS GIZI (BB/U) | M83: TOTAL BALITA UNDERWEIGHT | N83: % BALITA UNDERWEIGHT
H84: Sangat Kurang | I84: Kurang | J84: BB Normal | K84: Resiko Lebih | L84: Outlier
A85: 1 | B85: 2 | C85: 3 | D85: 4 | F85: 5 | G85: 6 | H85: 7 | I85: 8 | J85: 9 | K85: 10 | L85: 11 | M85: 12=(7+8) | N85: 13=(12/6)
A86: 7 | B86: LEBATUKAN | C86: HADAKEWA | D86: 1 | E86: LAMATUKA | F86: =STUNTING!F78 -> 35 | G86: =H86+I86+J86+K86+L86 -> 35 | H86: 0 | I86: 9 | J86: 24 | K86: 2 | L86: 0 | M86: =H86+I86 -> 9 | N86: =M86/G86*100 -> 25.714286
D87: 2 | E87: BAOPANA | F87: =STUNTING!F79 -> 41 | G87: =H87+I87+J87+K87 -> 41 | H87: 0 | I87: 9 | J87: 32 | K87: 0 | L87: 0 | M87: =H87+I87 -> 9 | N87: =M87/G87*100 -> 21.95122
D88: 3 | E88: MERDEKA | F88: =STUNTING!F80 -> 48 | G88: =H88+I88+J88+K88 -> 48 | H88: 1 | I88: 11 | J88: 33 | K88: 3 | L88: 0 | M88: =H88+I88 -> 12 | N88: =M88/G88*100 -> 25
D89: 4 | E89: HADAKEWA | F89: =STUNTING!F81 -> 55 | G89: =H89+I89+J89+K89 -> 55 | H89: 1 | I89: 8 | J89: 45 | K89: 1 | L89: 0 | M89: =H89+I89 -> 9 | N89: =M89/G89*100 -> 16.363636
D90: 5 | E90: LERAHINGA | F90: =STUNTING!F82 -> 30 | G90: =H90+I90+J90+K90 -> 30 | H90: 2 | I90: 5 | J90: 23 | K90: 0 | L90: 0 | M90: =H90+I90 -> 7 | N90: =M90/G90*100 -> 23.333333
D91: 6 | E91: WAIENGA | F91: =STUNTING!F83 -> 44 | G91: =H91+I91+J91+K91 -> 44 | H91: 0 | I91: 10 | J91: 31 | K91: 3 | L91: 0 | M91: =H91+I91 -> 10 | N91: =M91/G91*100 -> 22.727273
D92: 7 | E92: TAPOBARAN | F92: =STUNTING!F84 -> 38 | G92: =H92+I92+J92+K92 -> 38 | H92: 0 | I92: 8 | J92: 30 | K92: 0 | L92: 0 | M92: =H92+I92 -> 8 | N92: =M92/G92*100 -> 21.052632
D93: 8 | E93: DIKESARE | F93: =STUNTING!F85 -> 24 | G93: =H93+I93+J93+K93 -> 24 | H93: 0 | I93: 6 | J93: 18 | K93: 0 | L93: 0 | M93: =H93+I93 -> 6 | N93: =M93/G93*100 -> 25
D94: 9 | E94: LAMADALE | F94: =STUNTING!F86 -> 23 | G94: =H94+I94+J94+K94 -> 23 | H94: 0 | I94: 2 | J94: 21 | K94: 0 | L94: 0 | M94: =H94+I94 -> 2 | N94: =M94/G94*100 -> 8.6956522
D95: 10 | E95: LEWOELENG | F95: =STUNTING!F87 -> 45 | G95: =H95+I95+J95+K95 -> 45 | H95: 0 | I95: 14 | J95: 31 | K95: 0 | L95: 0 | M95: =H95+I95 -> 14 | N95: =M95/G95*100 -> 31.111111
D96: 11 | E96: LODOTODOKOWA | F96: =STUNTING!F88 -> 52 | G96: =H96+I96+J96+K96 -> 52 | H96: 0 | I96: 4 | J96: 48 | K96: 0 | L96: 0 | M96: =H96+I96 -> 4 | N96: =M96/G96*100 -> 7.6923077
D97: 12 | E97: SERANGGORANG | F97: =STUNTING!F89 -> 25 | G97: =H97+I97+J97+K97 -> 25 | H97: 0 | I97: 6 | J97: 19 | K97: 0 | L97: 0 | M97: =H97+I97 -> 6 | N97: =M97/G97*100 -> 24
D98: 13 | E98: BALUREBONG | F98: =STUNTING!F90 -> 26 | G98: =H98+I98+J98+K98 -> 26 | H98: 0 | I98: 4 | J98: 20 | K98: 2 | L98: 0 | M98: =H98+I98 -> 4 | N98: =M98/G98*100 -> 15.384615
... D102: 17 | E102: ATAKOWA | F102: =STUNTING!F94 -> 21 | G102: =H102+I102+J102+K102 -> 21 | H102: 0 | I102: 3 | J102: 18 | K102: 0 | L102: 0 | M102: =H102+I102 -> 3 | N102: =M102/G102*100 -> 14.285714
A103: TOTAL KECAMATAN | F103: =SUM(F86:F102) -> 597 | G103: =SUM(G86:G102) -> 597 | H103: =SUM(H86:H102) -> 4 | I103: =SUM(I86:I102) -> 113 | J103: =SUM(J86:J102) -> 469 | K103: =SUM(K86:K102) -> 11 | L103: =SUM(L86:L102) -> 0 | M103: =SUM(M86:M102) -> 117 | N103: =M103/G103*100 -> 19.59799
A104: 8 | B104: ILE APE TIMUR | C104: LAMAAU | D104: 1 | E104: TODANARA | F104: =STUNTING!F96 -> 46 | G104: =H104+I104+J104+K104+L104 -> 46 | H104: 2 | I104: 2 | J104: 42 | K104: 0 | L104: 0 | M104: =H104+I104 -> 4 | N104: =M104/G104*100 -> 8.6956522
D105: 2 | E105: JONTONA | F105: =STUNTING!F97 -> 62 | G105: =H105+I105+J105+K105+L105 -> 62 | H105: 1 | I105: 5 | J105: 55 | K105: 0 | L105: 1 | M105: =H105+I105 -> 6 | N105: =M105/G105*100 -> 9.6774194
D106: 3 | E106: LAMAWOLO | F106: =STUNTING!F98 -> 26 | G106: =H106+I106+J106+K106+L106 -> 26 | H106: 0 | I106: 4 | J106: 21 | K106: 0 | L106: 1 | M106: =H106+I106 -> 4 | N106: =M106/G106*100 -> 15.384615
...

Sheet WASTING KEC
A1: DATA BALITA WASTING HASIL e-PPGBM
A2: PROVINSI NUSA TENGGARA TIMUR
A3: =STUNTING!A4 -> PERIODE SEPTEMBER 2025
A5: NO | B5: KECAMATAN | C5: PUSKESMAS | D5: DESA/KELURAHAN | F5: SASARAN | G5: TOTAL BALITA DIUKUR & DITIMBANG | H5: STATUS GIZI (BB/TB) | O5: TOTAL BALITA WASTING | P5: % BALITA WASTING
H6: Gizi Buruk | I6: Gizi Kurang | J6: Normal | K6: Risiko Gizi Lebih | L6: Gizi Lebih | M6: Obesitas | N6: Outlier
A7: 1 | B7: 2 | C7: 3 | D7: 4 | F7: 5 | G7: 6 | H7: 7 | I7: 8 | J7: 9 | K7: 10 | L7: 11 | M7: 12 | N7: 13 | O7: 14(7+8) | P7: 15(14/6)
A8: 1 | C8: JUMLAH PUSKESMAS WAIRIANG | F8: =STUNTING!F19 -> 710 | G8: =WASTING!G18 -> 691 | H8: =WASTING!H18 -> 5 | I8: =WASTING!I18 -> 24 | J8: =WASTING!J18 -> 643 | K8: =WASTING!K18 -> 18 | L8: =WASTING!L18 -> 0 | M8: =WASTING!M18 -> 0 | N8: =WASTING!N18 -> 1 | O8: =H8+I8 -> 29 | P8: =O8/G8*100 -> 4.1968162
A9: 2 | C9: JUMLAH PUSKESMAS BEAN | F9: =STUNTING!F30 -> 564 | G9: =WASTING!G29 -> 564 | H9: =WASTING!H29 -> 1 | I9: =WASTING!I29 -> 36 | J9: =WASTING!J29 -> 503 | K9: =WASTING!K29 -> 20 | L9: =WASTING!L29 -> 4 | M9: =WASTING!M29 -> 0 | N9: =WASTING!N29 -> 0 | O9: =H9+I9 -> 37 | P9: =O9/G9*100 -> 6.5602837
F10: =F8+F9 -> 1274 | G10: =G8+G9 -> 1255 | H10: =H8+H9 -> 6 | I10: =I8+I9 -> 60 | J10: =J8+J9 -> 1146 | K10: =K8+K9 -> 38 | L10: =L8+L9 -> 4 | M10: =M8+M9 -> 0 | N10: =N8+N9 -> 1 | O10: =H10+I10 -> 66 | P10: =O10/G10*100 -> 5.2589641
A11: 3 | C11: JUMLAH PUSKESMAS BALAURING | F11: =STUNTING!F44 -> 759 | G11: =WASTING!G43 -> 680 | H11: =WASTING!H43 -> 4 | I11: =WASTING!I43 -> 53 | J11: =WASTING!J43 -> 595 | K11: =WASTING!K43 -> 23 | L11: =WASTING!L43 -> 0 | M11: =WASTING!M43 -> 0 | N11: =WASTING!N43 -> 5 | O11: =H11+I11 -> 57 | P11: =O11/G11*100 -> 8.3823529
A12: 4 | C12: JUMLAH PUSKESMAS ATONAPOQ | F12: =STUNTING!F55 -> 531 | G12: =WASTING!G54 -> 531 | H12: =WASTING!H54 -> 6 | I12: =WASTING!I54 -> 28 | J12: =WASTING!J54 -> 462 | K12: =WASTING!K54 -> 30 | L12: =WASTING!L54 -> 5 | M12: =WASTING!M54 -> 0 | N12: =WASTING!N54 -> 0 | O12: =H12+I12 -> 34 | P12: =O12/G12*100 -> 6.4030132
A13: TOTAL KECAMATAN | F13: =F11+F12 -> 1290 | G13: =G11+G12 -> 1211 | H13: =H11+H12 -> 10 | I13: =I11+I12 -> 81 | J13: =J11+J12 -> 1057 | K13: =K11+K12 -> 53 | L13: =L11+L12 -> 5 | M13: =M11+M12 -> 0 | N13: =N11+N12 -> 5 | O13: =H13+I13 -> 91 | P13: =O13/G13*100 -> 7.5144509
A14: 5 | C14: JUMLAH PUSKESMAS LEWOLEBA | F14: =STUNTING!F64 -> 1826 | G14: =WASTING!G63 -> 1696 | H14: =WASTING!H63 -> 8 | I14: =WASTING!I63 -> 111 | J14: =WASTING!J63 -> 1504 | K14: =WASTING!K63 -> 60 | L14: =WASTING!L63 -> 9 | M14: =WASTING!M63 -> 1 | N14: =WASTING!N63 -> 3 | O14: =H14+I14 -> 119 | P14: =O14/G14*100 -> 7.0165094
A15: 6 | C15: JUMLAH PUSKESMAS PADA | F15: =STUNTING!F76 -> 469 | G15: =WASTING!G75 -> 405 | H15: =WASTING!H75 -> 2 | I15: =WASTING!I75 -> 30 | J15: =WASTING!J75 -> 356 | K15: =WASTING!K75 -> 12 | L15: =WASTING!L75 -> 3 | M15: =WASTING!M75 -> 1 | N15: =WASTING!N75 -> 1 | O15: =H15+I15 -> 32 | P15: =O15/G15*100 -> 7.9012346
B16: TOTAL KECAMATAN NUBATUKAN | F16: =F14+F15 -> 2295 | G16: =+G14+G15 -> 2101 | H16: =H14+H15 -> 10 | I16: =I14+I15 -> 141 | J16: =J14+J15 -> 1860 | K16: =K14+K15 -> 72 | L16: =L14+L15 -> 12 | M16: =M14+M15 -> 2 | N16: =N14+N15 -> 4 | O16: =H16+I16 -> 151 | P16: =O16/G16*100 -> 7.1870538
A17: 7 | B17: TOTAL KECAMATAN LEBATUKAN/PUSK.HADAKEWA | F17: =STUNTING!F95 -> 597 | G17: =WASTING!G94 -> 597 | H17: =WASTING!H94 -> 2 | I17: =WASTING!I94 -> 37 | J17: =WASTING!J94 -> 532 | K17: =WASTING!K94 -> 20 | L17: =WASTING!L94 -> 4 | M17: =WASTING!M94 -> 2 | N17: =WASTING!N94 -> 0 | O17: =H17+I17 -> 39 | P17: =O17/G17*100 -> 6.5326633
A18: 8 | B18: TOTAL KECAMATAN ILE APE TIMUR/PUSK.LAMAAU | F18: =STUNTING!F105 -> 290 | G18: =WASTING!G131 -> 290 | H18: =WASTING!H131 -> 1 | I18: =WASTING!I131 -> 5 | J18: =WASTING!J131 -> 272 | K18: =WASTING!K131 -> 5 | L18: =WASTING!L131 -> 0 | M18: =WASTING!M131 -> 0 | N18: =WASTING!N131 -> 7 | O18: =H18+I18 -> 6 | P18: =O18/G18*100 -> 2.0689655
A19: 9 | B19: TOTAL KECAMATAN ATADEI/PUSK WAIKNUIT | F19: =STUNTING!F121 -> 420 | G19: =WASTING!G147 -> 419 | H19: =WASTING!H147 -> 3 | I19: =WASTING!I147 -> 33 | J19: =WASTING!J147 -> 356 | K19: =WASTING!K147 -> 22 | L19: =WASTING!L147 -> 3 | M19: =WASTING!M147 -> 0 | N19: =WASTING!N147 -> 2 | O19: =H19+I19 -> 36 | P19: =O19/G19*100 -> 8.5918854
A20: 10 | B20: TOTAL KECAMATAN WULANDONI/PUSK.WULANDONI | F20: =STUNTING!F137 -> 469 | G20: =WASTING!G163 -> 450 | H20: =WASTING!H163 -> 0 | I20: =WASTING!I163 -> 23 | J20: =WASTING!J163 -> 415 | K20: =WASTING!K163 -> 9 | L20: =WASTING!L163 -> 1 | M20: =WASTING!M163 -> 0 | N20: =WASTING!N163 -> 2 | O20: =H20+I20 -> 23 | P20: =O20/G20*100 -> 5.1111111
A21: 11 | B21: TOTAL KECAMATAN NAGAUTUN/PUSK. LOANG | F21: =STUNTING!F156 -> 611 | G21: =WASTING!G182 -> 606 | H21: =WASTING!H182 -> 8 | I21: =WASTING!I182 -> 31 | J21: =WASTING!J182 -> 527 | K21: =WASTING!K182 -> 32 | L21: =WASTING!L182 -> 5 | M21: =WASTING!M182 -> 2 | N21: =WASTING!N182 -> 1 | O21: =H21+I21 -> 39 | P21: =O21/G21*100 -> 6.4356436
A22: 12 | B22: TOTAL KECAMATAN ILE APE/PUSK WAIPUKANG | F22: =STUNTING!F174 -> 662 | G22: =WASTING!G200 -> 617 | H22: =WASTING!H200 -> 2 | I22: =WASTING!I200 -> 53 | J22: =WASTING!J200 -> 537 | K22: =WASTING!K200 -> 20 | L22: =WASTING!L200 -> 2 | M22: =WASTING!M200 -> 1 | N22: =WASTING!N200 -> 2 | O22: =H22+I22 -> 55 | P22: =O22/G22*100 -> 8.9141005
A23: TOTAL KABUPATEN | F23: =F10+F13+F16+F17+F18+F19+F20+F21+F22 -> 7908 | G23: =G10+G13+G16+G17+G18+G19+G20+G21+G22 -> 7546 | H23: =H10+H13+H16+H17+H18+H19+H20+H21+H22 -> 42 | I23: =I10+I13+I16+I17+I18+I19+I20+I21+I22 -> 464 | J23: =J10+J13+J16+J17+J18+J19+J20+J21+J22 -> 6702 | K23: =K10+K13+K16+K17+K18+K19+K20+K21+K22 -> 271 | L23: =L10+L13+L16+L17+L18+L19+L20+L21+L22 -> 36 | M23: =M10+M13+M16+M17+M18+M19+M20+M21+M22 -> 7 | N23: =N10+N13+N16+N17+N18+N19+N20+N21+N22 -> 24 | O23: =H23+I23 -> 506 | P23: =O23/G23*100 -> 6.7055394
J28: =STUNTING!G177 -> Lewoleba,30 September 2025
J29: Plt.Kepala Dinas Kesehatan
J30: Kabupten Lembata
J34: =STUNTING!G183 -> dr.Goerillya A. Huar Noning
J35: =STUNTING!G184 -> Pembina Tk .I
J36: =STUNTING!G185 -> NIP.19741114 200604 1 008

Sheet WASTING
A1: DATA BALITA WASTING HASIL e-PPGBM
A2: PROVINSI NUSA TENGGARA TIMUR
A3: =STUNTING!A4 -> PERIODE SEPTEMBER 2025
A5: NO | B5: KECAMATAN | C5: PUSKESMAS | D5: DESA/KELURAHAN | F5: SASARAN | G5: TOTAL BALITA DIUKUR & DITIMBANG | H5: STATUS GIZI (BB/TB) | O5: TOTAL BALITA WASTING | P5: % BALITA WASTING
H6: Gizi Buruk | I6: Gizi Kurang | J6: Normal | K6: Risiko Gizi Lebih | L6: Gizi Lebih | M6: Obesitas | N6: Outlier
A7: 1 | B7: 2 | C7: 3 | D7: 4 | F7: 5 | G7: 6 | H7: 7 | I7: 8 | J7: 9 | K7: 10 | L7: 11 | M7: 12 | N7: 13 | O7: 14(7+8) | P7: (14/6)
A8: 1 | B8: BUYASURI | C8: WAIRIANG | D8: 1 | E8: TOBOTANI | F8: =STUNTING!F9 -> 66 | G8: =H8+I8+J8+K8+L8+M8+N8 -> 66 | H8: 0 | I8: 1 | J8: 65 | K8: 0 | L8: 0 | M8: 0 | N8: 0 | O8: =H8+I8 -> 1 | P8: =O8/G8*100 -> 1.5151515
D9: 2 | E9: KALIKUR WL | F9: =STUNTING!F10 -> 65 | G9: =H9+I9+J9+K9+L9+M9+N9 -> 64 | H9: 0 | I9: 4 | J9: 58 | K9: 2 | L9: 0 | M9: 0 | N9: 0 | O9: =H9+I9 -> 4 | P9: =O9/G9*100 -> 6.25
D10: 3 | E10: KAOHUA | F10: =STUNTING!F11 -> 93 | G10: =H10+I10+J10+K10+L10+M10+N10 -> 92 | H10: 2 | I10: 2 | J10: 86 | K10: 1 | L10: 0 | M10: 0 | N10: 1 | O10: =H10+I10 -> 4 | P10: =O10/G10*100 -> 4.3478261
D11: 4 | E11: UMALEU | F11: =STUNTING!F12 -> 94 | G11: =H11+I11+J11+K11+L11+M11+N11 -> 94 | H11: 1 | I11: 2 | J11: 89 | K11: 2 | L11: 0 | M11: 0 | N11: 0 | O11: =H11+I11 -> 3 | P11: =O11/G11*100 -> 3.1914894
D12: 5 | E12: BURIWUTUNG | F12: =STUNTING!F13 -> 77 | G12: =H12+I12+J12+K12+L12+M12+N12 -> 71 | H12: 0 | I12: 1 | J12: 67 | K12: 3 | L12: 0 | M12: 0 | N12: 0 | O12: =H12+I12 -> 1 | P12: =O12/G12*100 -> 1.4084507
D13: 6 | E13: MAMPIR | F13: =STUNTING!F14 -> 79 | G13: =H13+I13+J13+K13+L13+M13+N13 -> 78 | H13: 1 | I13: 4 | J13: 72 | K13: 1 | L13: 0 | M13: 0 | N13: 0 | O13: =H13+I13 -> 5 | P13: =O13/G13*100 -> 6.4102564
D14: 7 | E14: LEUWOHUNG | F14: =STUNTING!F15 -> 65 | G14: =H14+I14+J14+K14+L14+M14+N14 -> 63 | H14: 0 | I14: 1 | J14: 58 | K14: 4 | L14: 0 | M14: 0 | N14: 0 | O14: =H14+I14 -> 1 | P14: =O14/G14*100 -> 1.5873016
D15: 8 | E15: BARENG | F15: =STUNTING!F16 -> 44 | G15: =H15+I15+J15+K15+L15+M15+N15 -> 44 | H15: 0 | I15: 3 | J15: 39 | K15: 2 | L15: 0 | M15: 0 | N15: 0 | O15: =H15+I15 -> 3 | P15: =O15/G15*100 -> 6.8181818
D16: 9 | E16: KALIKUR | F16: =STUNTING!F17 -> 79 | G16: =H16+I16+J16+K16+L16+M16+N16 -> 73 | H16: 0 | I16: 2 | J16: 69 | K16: 2 | L16: 0 | M16: 0 | N16: 0 | O16: =H16+I16 -> 2 | P16: =O16/G16*100 -> 2.739726
D17: 10 | E17: RUMANG | F17: =STUNTING!F18 -> 48 | G17: =H17+I17+J17+K17+L17+M17+N17 -> 46 | H17: 1 | I17: 4 | J17: 40 | K17: 1 | L17: 0 | M17: 0 | N17: 0 | O17: =H17+I17 -> 5 | P17: =O17/G17*100 -> 10.869565
C18: JUMLAH PUSKESMAS WAIRIANG | F18: =SUM(F8:F17) -> 710 | G18: =SUM(G8:G17) -> 691 | H18: =SUM(H8:H17) -> 5 | I18: =SUM(I8:I17) -> 24 | J18: =SUM(J8:J17) -> 643 | K18: =SUM(K8:K17) -> 18 | L18: =SUM(L8:L17) -> 0 | M18: =SUM(M8:M17) -> 0 | N18: =SUM(N8:N17) -> 1 | O18: =H18+I18 -> 29 | P18: =O18/G18*100 -> 4.1968162
A19: 2 | C19: BEAN | D19: 11 | E19: PANAMA | F19: =STUNTING!F20 -> 92 | G19: =H19+I19+J19+K19+L19+M19+N19 -> 92 | H19: 1 | I19: 3 | J19: 84 | K19: 3 | L19: 1 | M19: 0 | N19: 0 | O19: =H19+I19 -> 4 | P19: =O19/G19*100 -> 4.3478261
D20: 12 | E20: BEAN | F20: =STUNTING!F21 -> 38 | G20: =H20+I20+J20+K20+L20+M20+N20 -> 38 | H20: 0 | I20: 2 | J20: 35 | K20: 1 | L20: 0 | M20: 0 | N20: 0 | O20: =H20+I20 -> 2 | P20: =O20/G20*100 -> 5.2631579
D21: 13 | E21: BENIHADING | F21: =STUNTING!F22 -> 28 | G21: =H21+I21+J21+K21+L21+M21+N21 -> 28 | H21: 0 | I21: 2 | J21: 24 | K21: 2 | L21: 0 | M21: 0 | N21: 0 | O21: =H21+I21 -> 2 | P21: =O21/G21*100 -> 7.1428571
D22: 14 | E22: BENIHADING II | F22: =STUNTING!F23 -> 95 | G22: =H22+I22+J22+K22+L22+M22+N22 -> 95 | H22: 0 | I22: 4 | J22: 85 | K22: 4 | L22: 2 | M22: 0 | N22: 0 | O22: =H22+I22 -> 4 | P22: =O22/G22*100 -> 4.2105263
D23: 15 | E23: ATULALENG | F23: =STUNTING!F24 -> 41 | G23: =H23+I23+J23+K23+L23+M23+N23 -> 41 | H23: 0 | I23: 4 | J23: 35 | K23: 2 | L23: 0 | M23: 0 | N23: 0 | O23: =H23+I23 -> 4 | P23: =O23/G23*100 -> 9.7560976
D24: 16 | E24: TUBUNG WALANG | F24: =STUNTING!F25 -> 24 | G24: =H24+I24+J24+K24+L24+M24+N24 -> 24 | H24: 0 | I24: 1 | J24: 20 | K24: 3 | L24: 0 | M24: 0 | N24: 0 | O24: =H24+I24 -> 1 | P24: =O24/G24*100 -> 4.1666667
D25: 17 | E25: ROHO | F25: =STUNTING!F26 -> 58 | G25: =H25+I25+J25+K25+L25+M25+N25 -> 58 | H25: 0 | I25: 4 | J25: 52 | K25: 2 | L25: 0 | M25: 0 | N25: 0 | O25: =H25+I25 -> 4 | P25: =O25/G25*100 -> 6.8965517
D26: 18 | E26: LOYOBOHOR | F26: =STUNTING!F27 -> 56 | G26: =H26+I26+J26+K26+L26+M26+N26 -> 56 | H26: 0 | I26: 3 | J26: 51 | K26: 2 | L26: 0 | M26: 0 | N26: 0 | O26: =H26+I26 -> 3 | P26: =O26/G26*100 -> 5.3571429
D27: 19 | E27: LEUBURI | F27: =STUNTING!F28 -> 89 | G27: =H27+I27+J27+K27+L27+M27+N27 -> 89 | H27: 0 | I27: 7 | J27: 80 | K27: 1 | L27: 1 | M27: 0 | N27: 0 | O27: =H27+I27 -> 7 | P27: =O27/G27*100 -> 7.8651685
D28: 20 | E28: ATU WALUPANG | F28: =STUNTING!F29 -> 43 | G28: =H28+I28+J28+K28+L28+M28+N28 -> 43 | H28: 0 | I28: 6 | J28: 37 | K28: 0 | L28: 0 | M28: 0 | N28: 0 | O28: =H28+I28 -> 6 | P28: =O28/G28*100 -> 13.953488
C29: JUMLAH PUSKESMAS BEAN | F29: =SUM(F19:F28) -> 564 | G29: =SUM(G19:G28) -> 564 | H29: =SUM(H19:H28) -> 1 | I29: =SUM(I19:I28) -> 36 | J29: =SUM(J19:J28) -> 503 | K29: =SUM(K19:K28) -> 20 | L29: =SUM(L19:L28) -> 4 | M29: =SUM(M19:M28) -> 0 | N29: =SUM(N19:N28) -> 0 | O29: =H29+I29 -> 37 | P29: =O29/G29*100 -> 6.5602837 | R29: =SUM(R19:R28) -> 0
A30: TOTAL KECAMATAN BUYASURI | F30: =F18+F29 -> 1274 | G30: =G29+G18 -> 1255 | H30: =H29+H18 -> 6 | I30: =I29+I18 -> 60 | J30: =J29+J18 -> 1146 | K30: =K29+K18 -> 38 | L30: =L29+L18 -> 4 | M30: =M29+M18 -> 0 | N30: =N29+N18 -> 1 | O30: =O29+O18 -> 66 | P30: =O30/G30*100 -> 5.2589641
A31: 3 | B31: OMESURI | C31: BALAURING | D31: 1 | E31: NORMAL | F31: =STUNTING!F32 -> 38 | G31: =H31+I31+J31+K31+L31+M31+N31 -> 38 | H31: 0 | I31: 3 | J31: 35 | K31: 0 | L31: 0 | M31: 0 | N31: 0 | O31: =H31+I31 -> 3 | P31: =O31/G31*100 -> 7.8947368
D32: 2 | E32: LEUDANUNG | F32: =STUNTING!F33 -> 30 | G32: =H32+I32+J32+K32+L32+M32+N32 -> 30 | H32: 1 | I32: 2 | J32: 26 | K32: 1 | L32: 0 | M32: 0 | N32: 0 | O32: =H32+I32 -> 3 | P32: =O32/G32*100 -> 10
D33: 3 | E33: LEUWAYANG | F33: =STUNTING!F34 -> 74 | G33: =H33+I33+J33+K33+L33+M33+N33 -> 74 | H33: 2 | I33: 9 | J33: 60 | K33: 3 | L33: 0 | M33: 0 | N33: 0 | O33: =H33+I33 -> 11 | P33: =O33/G33*100 -> 14.864865
D34: 4 | E34: ROMA | F34: =STUNTING!F35 -> 26 | G34: =H34+I34+J34+K34+L34+M34+N34 -> 26 | H34: 0 | I34: 3 | J34: 21 | K34: 2 | L34: 0 | M34: 0 | N34: 0 | O34: =H34+I34 -> 3 | P34: =O34/G34*100 -> 11.538462
D35: 5 | E35: HOELEA II | F35: =STUNTING!F36 -> 35 | G35: =H35+I35+J35+K35+L35+M35+N35 -> 31 | H35: 0 | I35: 2 | J35: 28 | K35: 0 | L35: 0 | M35: 0 | N35: 1 | O35: =H35+I35 -> 2 | P35: =O35/G35*100 -> 6.4516129
D36: 6 | E36: HOELEA | F36: =STUNTING!F37 -> 63 | G36: =H36+I36+J36+K36+L36+M36+N36 -> 63 | H36: 0 | I36: 4 | J36: 53 | K36: 4 | L36: 0 | M36: 0 | N36: 2 | O36: =H36+I36 -> 4 | P36: =O36/G36*100 -> 6.3492063
D37: 7 | E37: DOLULOLONG | F37: =STUNTING!F38 -> 49 | G37: =H37+I37+J37+K37+L37+M37+N37 -> 47 | H37: 0 | I37: 3 | J37: 44 | K37: 0 | L37: 0 | M37: 0 | N37: 0 | O37: =H37+I37 -> 3 | P37: =O37/G37*100 -> 6.3829787
D38: 8 | E38: HINGALAMAMENGI | F38: =STUNTING!F39 -> 89 | G38: =H38+I38+J38+K38+L38+M38+N38 -> 88 | H38: 0 | I38: 6 | J38: 79 | K38: 3 | L38: 0 | M38: 0 | N38: 0 | O38: =H38+I38 -> 6 | P38: =O38/G38*100 -> 6.8181818
D39: 9 | E39: BALAURING | F39: =STUNTING!F40 -> 190 | G39: =H39+I39+J39+K39+L39+M39+N39 -> 122 | H39: 0 | I39: 7 | J39: 110 | K39: 5 | L39: 0 | M39: 0 | N39: 0 | O39: =H39+I39 -> 7 | P39: =O39/G39*100 -> 5.7377049
D40: 10 | E40: LEBEWALA | F40: =STUNTING!F41 -> 71 | G40: =H40+I40+J40+K40+L40+M40+N40 -> 70 | H40: 1 | I40: 5 | J40: 59 | K40: 3 | L40: 0 | M40: 0 | N40: 2 | O40: =H40+I40 -> 6 | P40: =O40/G40*100 -> 8.5714286
D41: 11 | E41: WAILOLONG | F41: =STUNTING!F42 -> 68 | G41: =H41+I41+J41+K41+L41+M41+N41 -> 65 | H41: 0 | I41: 6 | J41: 57 | K41: 2 | L41: 0 | M41: 0 | N41: 0 | O41: =H41+I41 -> 6 | P41: =O41/G41*100 -> 9.2307692
D42: 12 | E42: NORMAL I | F42: =STUNTING!F43 -> 26 | G42: =H42+I42+J42+K42+L42+M42+N42 -> 26 | H42: 0 | I42: 3 | J42: 23 | K42: 0 | L42: 0 | M42: 0 | N42: 0 | O42: =H42+I42 -> 3 | P42: =O42/G42*100 -> 11.538462
C43: JUMLAH PUSKESMAS BALAURING | F43: =SUM(F31:F42) -> 759 | G43: =SUM(G31:G42) -> 680 | H43: =SUM(H31:H42) -> 4 | I43: =SUM(I31:I42) -> 53 | J43: =SUM(J31:J42) -> 595 | K43: =SUM(K31:K42) -> 23 | L43: =SUM(L31:L42) -> 0 | M43: =SUM(M31:M42) -> 0 | N43: =SUM(N31:N42) -> 5 | O43: =H43+I43 -> 57 | P43: =O43/G43*100 -> 8.3823529
A44: 4 | C44: AUTONAPOQ | D44: 1 | E44: NILANAPO | F44: =STUNTING!F45 -> 71 | G44: =H44+I44+J44+K44+L44+M44+N44 -> 71 | H44: 3 | I44: 4 | J44: 59 | K44: 3 | L44: 2 | M44: 0 | N44: 0 | O44: =H44+I44 -> 7 | P44: =O44/G44*100 -> 9.8591549
D45: 2 | E45: LEUBATANG | F45: =STUNTING!F46 -> 64 | G45: =H45+I45+J45+K45+L45+M45+N45 -> 64 | H45: 0 | I45: 3 | J45: 60 | K45: 1 | L45: 0 | M45: 0 | N45: 0 | O45: =H45+I45 -> 3 | P45: =O45/G45*100 -> 4.6875
D46: 3 | E46: WALANGSAWAH | F46: =STUNTING!F47 -> 65 | G46: =H46+I46+J46+K46+L46+M46+N46 -> 65 | H46: 1 | I46: 4 | J46: 55 | K46: 4 | L46: 1 | M46: 0 | N46: 0 | O46: =H46+I46 -> 5 | P46: =O46/G46*100 -> 7.6923077
D47: 4 | E47: PEUSAWAH | F47: =STUNTING!F48 -> 58 | G47: =H47+I47+J47+K47+L47+M47+N47 -> 58 | H47: 0 | I47: 4 | J47: 50 | K47: 3 | L47: 1 | M47: 0 | N47: 0 | O47: =H47+I47 -> 4 | P47: =O47/G47*100 -> 6.8965517
D48: 5 | E48: MAHAL | F48: =STUNTING!F49 -> 60 | G48: =H48+I48+J48+K48+L48+M48+N48 -> 60 | H48: 1 | I48: 1 | J48: 55 | K48: 3 | L48: 0 | M48: 0 | N48: 0 | O48: =H48+I48 -> 2 | P48: =O48/G48*100 -> 3.3333333
D49: 6 | E49: MAHAL II | F49: =STUNTING!F50 -> 33 | G49: =H49+I49+J49+K49+L49+M49+N49 -> 33 | H49: 1 | I49: 2 | J49: 30 | K49: 0 | L49: 0 | M49: 0 | N49: 0 | O49: =H49+I49 -> 3 | P49: =O49/G49*100 -> 9.0909091
D50: 7 | E50: MELUWITING | F50: =STUNTING!F51 -> 46 | G50: =H50+I50+J50+K50+L50+M50+N50 -> 46 | H50: 0 | I50: 1 | J50: 41 | K50: 4 | L50: 0 | M50: 0 | N50: 0 | O50: =H50+I50 -> 1 | P50: =O50/G50*100 -> 2.173913
D51: 8 | E51: ARAMENGI | F51: =STUNTING!F52 -> 48 | G51: =H51+I51+J51+K51+L51+M51+N51 -> 48 | H51: 0 | I51: 5 | J51: 42 | K51: 1 | L51: 0 | M51: 0 | N51: 0 | O51: =H51+I51 -> 5 | P51: =O51/G51*100 -> 10.416667
D52: 9 | E52: WOWONG | F52: =STUNTING!F53 -> 35 | G52: =H52+I52+J52+K52+L52+M52+N52 -> 35 | H52: 0 | I52: 0 | J52: 27 | K52: 7 | L52: 1 | M52: 0 | N52: 0 | O52: =H52+I52 -> 0 | P52: =O52/G52*100 -> 0
D53: 10 | E53: MELUWITING 1 | F53: =STUNTING!F54 -> 51 | G53: =H53+I53+J53+K53+L53+M53+N53 -> 51 | H53: 0 | I53: 4 | J53: 43 | K53: 4 | L53: 0 | M53: 0 | N53: 0 | O53: =H53+I53 -> 4 | P53: =O53/G53*100 -> 7.8431373
C54: JUMLAH PUSKESMAS ATONAPOQ | F54: =SUM(F44:F53) -> 531 | G54: =SUM(G44:G53) -> 531 | H54: =SUM(H44:H53) -> 6 | I54: =SUM(I44:I53) -> 28 | J54: =SUM(J44:J53) -> 462 | K54: =SUM(K44:K53) -> 30 | L54: =SUM(L44:L53) -> 5 | M54: =SUM(M44:M53) -> 0 | N54: =SUM(N44:N53) -> 0 | O54: =H54+I54 -> 34 | P54: =O54/G54*100 -> 6.4030132
A55: TOTAL KECAMATAN | F55: =F54+F43 -> 1290 | G55: =G43+G54 -> 1211 | H55: =H43+H54 -> 10 | I55: =I43+I54 -> 81 | J55: =J43+J54 -> 1057 | K55: =K43+K54 -> 53 | L55: =L43+L54 -> 5 | M55: =M43+M54 -> 0 | N55: =N43+N54 -> 5 | O55: =O43+O54 -> 91 | P55: =O55/G55*100 -> 7.5144509
A56: 5 | B56: NUBATUKAN | C56: LEWOLEBA | D56: 1 | E56: LEWOLEBA BARAT | F56: =STUNTING!F57 -> 241 | G56: =H56+I56+J56+K56+L56+M56+N56 -> 207 | H56: 1 | I56: 19 | J56: 178 | K56: 8 | L56: 1 | M56: 0 | N56: 0 | O56: =H56+I56 -> 20 | P56: =O56/G56*100 -> 9.6618357
D57: 2 | E57: LEWOLEBA UTARA | F57: =STUNTING!F58 -> 236 | G57: =H57+I57+J57+K57+L57+M57+N57 -> 230 | H57: 0 | I57: 10 | J57: 217 | K57: 2 | L57: 0 | M57: 0 | N57: 1 | O57: =H57+I57 -> 10 | P57: =O57/G57*100 -> 4.3478261
D58: 3 | E58: LEWOLEBA | F58: =STUNTING!F59 -> 252 | G58: =H58+I58+J58+K58+L58+M58+N58 -> 235 | H58: 1 | I58: 19 | J58: 207 | K58: 7 | L58: 1 | M58: 0 | N58: 0 | O58: =H58+I58 -> 20 | P58: =O58/G58*100 -> 8.5106383
D59: 4 | E59: LEWOLEBA TENGAH | F59: =STUNTING!F60 -> 181 | G59: =H59+I59+J59+K59+L59+M59+N59 -> 168 | H59: 3 | I59: 6 | J59: 151 | K59: 5 | L59: 2 | M59: 1 | N59: 0 | O59: =H59+I59 -> 9 | P59: =O59/G59*100 -> 5.3571429
D60: 5 | E60: LEWOLEBA TIMUR | F60: =STUNTING!F61 -> 310 | G60: =H60+I60+J60+K60+L60+M60+N60 -> 279 | H60: 1 | I60: 16 | J60: 253 | K60: 7 | L60: 1 | M60: 0 | N60: 1 | O60: =H60+I60 -> 17 | P60: =O60/G60*100 -> 6.09319
D61: 6 | E61: LEWOLEBA SELATAN | F61: =STUNTING!F62 -> 206 | G61: =H61+I61+J61+K61+L61+M61+N61 -> 206 | H61: 2 | I61: 19 | J61: 169 | K61: 13 | L61: 2 | M61: 0 | N61: 1 | O61: =H61+I61 -> 21 | P61: =O61/G61*100 -> 10.194175
D62: 7 | E62: SELANDORO | F62: =STUNTING!F63 -> 400 | G62: =H62+I62+J62+K62+L62+M62+N62 -> 371 | H62: 0 | I62: 22 | J62: 329 | K62: 18 | L62: 2 | M62: 0 | N62: 0 | O62: =H62+I62 -> 22 | P62: =O62/G62*100 -> 5.9299191
C63: JUMLAH PUSKESMAS LEWOLEBA | F63: =SUM(F56:F62) -> 1826 | G63: =SUM(G56:G62) -> 1696 | H63: =SUM(H56:H62) -> 8 | I63: =SUM(I56:I62) -> 111 | J63: =SUM(J56:J62) -> 1504 | K63: =SUM(K56:K62) -> 60 | L63: =SUM(L56:L62) -> 9 | M63: =SUM(M56:M62) -> 1 | N63: =SUM(N56:N62) -> 3 | O63: =H63+I63 -> 119 | P63: =O63/G63*100 -> 7.0165094
A64: 6 | C64: PADA | D64: 8 | E64: BELOBATANG | F64: =STUNTING!F65 -> 32 | G64: =H64+I64+J64+K64+L64+M64+N64 -> 30 | H64: 0 | I64: 1 | J64: 27 | K64: 1 | L64: 0 | M64: 0 | N64: 1 | O64: =H64+I64 -> 1 | P64: =O64/G64*100 -> 3.3333333
D65: 9 | E65: UDAK MELOMATA | F65: =STUNTING!F66 -> 21 | G65: =H65+I65+J65+K65+L65+M65+N65 -> 19 | H65: 0 | I65: 3 | J65: 16 | K65: 0 | L65: 0 | M65: 0 | N65: 0 | O65: =H65+I65 -> 3 | P65: =O65/G65*100 -> 15.789474
D66: 10 | E66: BAOLANGU | F66: =STUNTING!F67 -> 42 | G66: =H66+I66+J66+K66+L66+M66+N66 -> 38 | H66: 0 | I66: 5 | J66: 32 | K66: 1 | L66: 0 | M66: 0 | N66: 0 | O66: =H66+I66 -> 5 | P66: =O66/G66*100 -> 13.157895
D67: 11 | E67: NUBAMADO | F67: =STUNTING!F68 -> 27 | G67: =H67+I67+J67+K67+L67+M67+N67 -> 24 | H67: 0 | I67: 2 | J67: 21 | K67: 1 | L67: 0 | M67: 0 | N67: 0 | O67: =H67+I67 -> 2 | P67: =O67/G67*100 -> 8.3333333
D68: 12 | E68: PAOBOKOL | F68: =STUNTING!F69 -> 35 | G68: =H68+I68+J68+K68+L68+M68+N68 -> 31 | H68: 0 | I68: 4 | J68: 27 | K68: 0 | L68: 0 | M68: 0 | N68: 0 | O68: =H68+I68 -> 4 | P68: =O68/G68*100 -> 12.903226
D69: 13 | E69: WATOKOBU | F69: =STUNTING!F70 -> 58 | G69: =H69+I69+J69+K69+L69+M69+N69 -> 47 | H69: 0 | I69: 1 | J69: 43 | K69: 3 | L69: 0 | M69: 0 | N69: 0 | O69: =H69+I69 -> 1 | P69: =O69/G69*100 -> 2.1276596
D70: 14 | E70: WAIJARANG | F70: =STUNTING!F71 -> 56 | G70: =H70+I70+J70+K70+L70+M70+N70 -> 49 | H70: 0 | I70: 2 | J70: 43 | K70: 3 | L70: 0 | M70: 1 | N70: 0 | O70: =H70+I70 -> 2 | P70: =O70/G70*100 -> 4.0816327
D71: 15 | E71: LITEULUMADO | F71: =STUNTING!F72 -> 25 | G71: =H71+I71+J71+K71+L71+M71+N71 -> 24 | H71: 0 | I71: 0 | J71: 23 | K71: 0 | L71: 1 | M71: 0 | N71: 0 | O71: =H71+I71 -> 0 | P71: =O71/G71*100 -> 0
D72: 16 | E72: PADA | F72: =STUNTING!F73 -> 115 | G72: =H72+I72+J72+K72+L72+M72+N72 -> 88 | H72: 2 | I72: 7 | J72: 76 | K72: 1 | L72: 2 | M72: 0 | N72: 0 | O72: =H72+I72 -> 9 | P72: =O72/G72*100 -> 10.227273
D73: 17 | E73: BAKALEREK | F73: =STUNTING!F74 -> 26 | G73: =H73+I73+J73+K73+L73+M73+N73 -> 26 | H73: 0 | I73: 2 | J73: 22 | K73: 2 | L73: 0 | M73: 0 | N73: 0 | O73: =H73+I73 -> 2 | P73: =O73/G73*100 -> 7.6923077
D74: 18 | E74: BOUR | F74: =STUNTING!F75 -> 32 | G74: =H74+I74+J74+K74+L74+M74+N74 -> 29 | H74: 0 | I74: 3 | J74: 26 | K74: 0 | L74: 0 | M74: 0 | N74: 0 | O74: =H74+I74 -> 3 | P74: =O74/G74*100 -> 10.344828
C75: JUMLAH PUSKESMAS PADA | F75: =SUM(F64:F74) -> 469 | G75: =SUM(G64:G74) -> 405 | H75: =SUM(H64:H74) -> 2 | I75: =SUM(I64:I74) -> 30 | J75: =SUM(J64:J74) -> 356 | K75: =SUM(K64:K74) -> 12 | L75: =SUM(L64:L74) -> 3 | M75: =SUM(M64:M74) -> 1 | ... O75: =SUM(O64:O74) -> 32 | P75: =O75/G75*100 -> 7.9012346
A76: TOTAL KECAMATAN | F76: =F75+F63 -> 2295 | G76: =G63+G75 -> 2101 | H76: =H63+H75 -> 10 | I76: =I63+I75 -> 141 | J76: =J63+J75 -> 1860 | K76: =K63+K75 -> 72 | L76: =L63+L75 -> 12 | M76: =M63+M75 -> 2 | N76: =N63+N75 -> 4 | O76: =O63+O75 -> 151 | P76: =O76/G76*100 -> 7.1870538
A77: 7 | B77: LEBATUKAN | C77: HADAKEWA | D77: 1 | E77: LAMATUKA | F77: =STUNTING!F78 -> 35 | G77: =H77+I77+J77+K77+L77+M77+N77 -> 35 | H77: 0 | I77: 3 | J77: 29 | K77: 2 | L77: 1 | M77: 0 | N77: 0 | O77: =H77+I77 -> 3 | P77: =O77/G77*100 -> 8.5714286
D78: 2 | E78: BAOPANA | F78: =STUNTING!F79 -> 41 | G78: =H78+I78+J78+K78+L78+M78+N78 -> 41 | H78: 0 | I78: 2 | J78: 38 | K78: 1 | L78: 0 | M78: 0 | N78: 0 | O78: =H78+I78 -> 2 | P78: =O78/G78*100 -> 4.8780488
D79: 3 | E79: MERDEKA | F79: =STUNTING!F80 -> 48 | G79: =H79+I79+J79+K79+L79+M79+N79 -> 48 | H79: 0 | I79: 5 | J79: 40 | K79: 3 | L79: 0 | M79: 0 | N79: 0 | O79: =H79+I79 -> 5 | P79: =O79/G79*100 -> 10.416667
D80: 4 | E80: HADAKEWA | F80: =STUNTING!F81 -> 55 | G80: =H80+I80+J80+K80+L80+M80+N80 -> 55 | H80: 0 | I80: 4 | J80: 47 | K80: 4 | L80: 0 | M80: 0 | N80: 0 | O80: =H80+I80 -> 4 | P80: =O80/G80*100 -> 7.2727273
D81: 5 | E81: LERAHINGA | F81: =STUNTING!F82 -> 30 | G81: =H81+I81+J81+K81+L81+M81+N81 -> 30 | H81: 1 | I81: 3 | J81: 26 | K81: 0 | L81: 0 | M81: 0 | N81: 0 | O81: =H81+I81 -> 4 | P81: =O81/G81*100 -> 13.333333
D82: 6 | E82: WAIENGA | F82: =STUNTING!F83 -> 44 | G82: =H82+I82+J82+K82+L82+M82+N82 -> 44 | H82: 0 | I82: 4 | J82: 38 | K82: 0 | L82: 1 | M82: 1 | N82: 0 | O82: =H82+I82 -> 4 | P82: =O82/G82*100 -> 9.0909091
D83: 7 | E83: TAPOBARAN | F83: =STUNTING!F84 -> 38 | G83: =H83+I83+J83+K83+L83+M83+N83 -> 38 | H83: 0 | I83: 1 | J83: 37 | K83: 0 | L83: 0 | M83: 0 | N83: 0 | O83: =H83+I83 -> 1 | P83: =O83/G83*100 -> 2.6315789
D84: 8 | E84: DIKESARE | F84: =STUNTING!F85 -> 24 | G84: =H84+I84+J84+K84+L84+M84+N84 -> 24 | H84: 0 | I84: 4 | J84: 20 | K84: 0 | L84: 0 | M84: 0 | N84: 0 | O84: =H84+I84 -> 4 | P84: =O84/G84*100 -> 16.666667
D85: 9 | E85: LAMADALE | F85: =STUNTING!F86 -> 23 | G85: =H85+I85+J85+K85+L85+M85+N85 -> 23 | H85: 0 | I85: 0 | J85: 23 | K85: 0 | L85: 0 | M85: 0 | N85: 0 | O85: =H85+I85 -> 0 | P85: =O85/G85*100 -> 0
D86: 10 | E86: LEWOELENG | F86: =STUNTING!F87 -> 45 | G86: =H86+I86+J86+K86+L86+M86+N86 -> 45 | H86: 0 | I86: 3 | J86: 41 | K86: 1 | L86: 0 | M86: 0 | N86: 0 | O86: =H86+I86 -> 3 | P86: =O86/G86*100 -> 6.6666667
D87: 11 | E87: LODOTODOKOWA | F87: =STUNTING!F88 -> 52 | G87: =H87+I87+J87+K87+L87+M87+N87 -> 52 | H87: 0 | I87: 1 | J87: 48 | K87: 2 | L87: 1 | M87: 0 | N87: 0 | O87: =H87+I87 -> 1 | P87: =O87/G87*100 -> 1.9230769
D88: 12 | E88: SERANGGORANG | F88: =STUNTING!F89 -> 25 | G88: =H88+I88+J88+K88+L88+M88+N88 -> 25 | H88: 1 | I88: 4 | J88: 20 | K88: 0 | L88: 0 | M88: 0 | N88: 0 | O88: =H88+I88 -> 5 | P88: =O88/G88*100 -> 20
D89: 13 | E89: BALUREBONG | F89: =STUNTING!F90 -> 26 | G89: =H89+I89+J89+K89+L89+M89+N89 -> 26 | H89: 0 | I89: 1 | J89: 19 | K89: 4 | L89: 1 | M89: 1 | N89: 0 | O89: =H89+I89 -> 1 | P89: =O89/G89*100 -> 3.8461538
... D93: 17 | E93: ATAKOWA | F93: =STUNTING!F94 -> 21 | G93: =H93+I93+J93+K93+L93+M93+N93 -> 21 | H93: 0 | I93: 0 | J93: 19 | K93: 2 | L93: 0 | M93: 0 | N93: 0 | O93: =H93+I93 -> 0 | P93: =O93/G93*100 -> 0
A94: TOTAL KECAMATAN | F94: =SUM(F77:F93) -> 597 | G94: =SUM(G77:G93) -> 597 | H94: =SUM(H77:H93) -> 2 | I94: =SUM(I77:I93) -> 37 | J94: =SUM(J77:J93) -> 532 | K94: =SUM(K77:K93) -> 20 | L94: =SUM(L77:L93) -> 4 | M94: =SUM(M77:M93) -> 2 | N94: =SUM(N77:N93) -> 0 | O94: =H94+I94 -> 39 | P94: =O94/G94*100 -> 6.5326633
A122: 8 | B122: ILE APE TIMUR | C122: LAMAAU | D122: 1 | E122: TODANARA | F122: =STUNTING!F96 -> 46 | G122: =H122+I122+J122+K122+L122+M122+N122 -> 46 | H122: 0 | I122: 2 | J122: 43 | K122: 1 | L122: 0 | M122: 0 | N122: 0 | O122: =H122+I122 -> 2 | P122: =O122/G122*100 -> 4.3478261
D123: 2 | E123: JONTONA | F123: =STUNTING!F97 -> 62 | G123: =H123+I123+J123+K123+L123+N123 -> 62 | H123: 1 | I123: 0 | J123: 58 | K123: 2 | L123: 0 | M123: 0 | N123: 1 | O123: =H123+I123 -> 1 | P123: =O123/G123*100 -> 1.6129032
D124: 3 | E124: LAMAWOLO | F124: =STUNTING!F98 -> 26 | G124: =H124+I124+J124+K124+L124+N124 -> 26 | H124: 0 | I124: 1 | J124: 24 | K124: 0 | L124: 0 | M124: 0 | N124: 1 | O124: =H124+I124 -> 1 | P124: =O124/G124*100 -> 3.8461538
D125: 4 | E125: LAMATOKAN | F125: =STUNTING!F99 -> 51 | G125: =H125+I125+J125+K125+L125+N125 -> 51 | H125: 0 | I125: 2 | J125: 47 | K125: 0 | L125: 0 | M125: 0 | N125: 2 | O125: =H125+I125 -> 2 | P125: =O125/G125*100 -> 3.9215686
D126: 5 | E126: LAMAAU | F126: =STUNTING!F100 -> 24 | G126: =H126+I126+J126+K126+L126+N126 -> 24 | H126: 0 | I126: 0 | J126: 24 | K126: 0 | L126: 0 | M126: 0 | N126: 0 | O126: =H126+I126 -> 0 | P126: =O126/G126*100 -> 0
D127: 6 | E127: AULESA | F127: =STUNTING!F101 -> 30 | G127: =H127+I127+J127+K127+L127+N127 -> 30 | H127: 0 | I127: 0 | J127: 29 | K127: 0 | L127: 0 | M127: 0 | N127: 1 | O127: =H127+I127 -> 0 | P127: =O127/G127*100 -> 0
D128: 7 | E128: WAIMATAN | F128: =STUNTING!F102 -> 18 | G128: =H128+I128+J128+K128+L128+N128 -> 18 | H128: 0 | I128: 0 | J128: 18 | K128: 0 | L128: 0 | M128: 0 | N128: 0 | O128: =H128+I128 -> 0 | P128: =O128/G128*100 -> 0
D129: 8 | E129: LAMAGUTE | F129: =STUNTING!F103 -> 16 | G129: =H129+I129+J129+K129+L129+N129 -> 16 | H129: 0 | I129: 0 | J129: 13 | K129: 2 | L129: 0 | M129: 0 | N129: 1 | O129: =H129+I129 -> 0 | P129: =O129/G129*100 -> 0
D130: 9 | E130: BAO LALI DULI | F130: =STUNTING!F104 -> 17 | G130: =H130+I130+J130+K130+L130+N130 -> 17 | H130: 0 | I130: 0 | J130: 16 | K130: 0 | L130: 0 | M130: 0 | N130: 1 | O130: =H130+I130 -> 0 | P130: =O130/G130*100 -> 0
A131: TOTAL KECAMATAN | F131: =SUM(F122:F130) -> 290 | G131: =SUM(G122:G130) -> 290 | H131: =SUM(H122:H130) -> 1 | I131: =SUM(I122:I130) -> 5 | J131: =SUM(J122:J130) -> 272 | K131: =SUM(K122:K130) -> 5 | L131: =SUM(L122:L130) -> 0 | M131: =SUM(M122:M130) -> 0 | N131: =SUM(N122:N130) -> 7 | O131: =H131+I131 -> 6 | P131: =O131/G131*100 -> 2.0689655
...
